BEGIN:VCALENDAR
VERSION:2.0
PRODID:-//Headwaters Outfitters | Fly Fishing, Paddling, Tubing in Rosman, North Carolina - ECPv6.15.18//NONSGML v1.0//EN
CALSCALE:GREGORIAN
METHOD:PUBLISH
X-WR-CALNAME:Headwaters Outfitters | Fly Fishing, Paddling, Tubing in Rosman, North Carolina
X-ORIGINAL-URL:https://headwatersoutfitters.com
X-WR-CALDESC:Events for Headwaters Outfitters | Fly Fishing, Paddling, Tubing in Rosman, North Carolina
REFRESH-INTERVAL;VALUE=DURATION:PT1H
X-Robots-Tag:noindex
X-PUBLISHED-TTL:PT1H
BEGIN:VTIMEZONE
TZID:America/New_York
BEGIN:DAYLIGHT
TZOFFSETFROM:-0500
TZOFFSETTO:-0400
TZNAME:EDT
DTSTART:20240310T070000
END:DAYLIGHT
BEGIN:STANDARD
TZOFFSETFROM:-0400
TZOFFSETTO:-0500
TZNAME:EST
DTSTART:20241103T060000
END:STANDARD
BEGIN:DAYLIGHT
TZOFFSETFROM:-0500
TZOFFSETTO:-0400
TZNAME:EDT
DTSTART:20250309T070000
END:DAYLIGHT
BEGIN:STANDARD
TZOFFSETFROM:-0400
TZOFFSETTO:-0500
TZNAME:EST
DTSTART:20251102T060000
END:STANDARD
BEGIN:DAYLIGHT
TZOFFSETFROM:-0500
TZOFFSETTO:-0400
TZNAME:EDT
DTSTART:20260308T070000
END:DAYLIGHT
BEGIN:STANDARD
TZOFFSETFROM:-0400
TZOFFSETTO:-0500
TZNAME:EST
DTSTART:20261101T060000
END:STANDARD
END:VTIMEZONE
BEGIN:VEVENT
DTSTART;TZID=America/New_York:20250325T140000
DTEND;TZID=America/New_York:20250325T180000
DTSTAMP:20260424T212614
CREATED:20250122T192235Z
LAST-MODIFIED:20250122T192235Z
UID:1489879-1742911200-1742925600@headwatersoutfitters.com
SUMMARY:$1 off Drafts Monday's & Tuesday's
DESCRIPTION:Join us on Monday’s and Tuesday’s for dollar off drafts during our winter hours (2 PM until 6 PM).
URL:https://headwatersoutfitters.com/event/1-off-drafts-mondays-tuesdays/2025-03-25/
LOCATION:Forks of the River Taproom\, 25 Parkway Road\, Rosman\, NC\, 28772\, United States
ATTACH;FMTTYPE=image/jpeg:https://eadn-wc01-7181330.nxedge.io/wp-content/uploads/2025/01/Dollar.jpeg
GEO:35.1435084;-82.8391879
X-APPLE-STRUCTURED-LOCATION;VALUE=URI;X-ADDRESS=Forks of the River Taproom 25 Parkway Road Rosman NC 28772 United States;X-APPLE-RADIUS=500;X-TITLE=25 Parkway Road:geo:-82.8391879,35.1435084
END:VEVENT
BEGIN:VEVENT
DTSTART;TZID=America/New_York:20250324T140000
DTEND;TZID=America/New_York:20250324T180000
DTSTAMP:20260424T212614
CREATED:20250122T192235Z
LAST-MODIFIED:20250122T192235Z
UID:1489878-1742824800-1742839200@headwatersoutfitters.com
SUMMARY:$1 off Drafts Monday's & Tuesday's
DESCRIPTION:Join us on Monday’s and Tuesday’s for dollar off drafts during our winter hours (2 PM until 6 PM).
URL:https://headwatersoutfitters.com/event/1-off-drafts-mondays-tuesdays/2025-03-24/
LOCATION:Forks of the River Taproom\, 25 Parkway Road\, Rosman\, NC\, 28772\, United States
ATTACH;FMTTYPE=image/jpeg:https://eadn-wc01-7181330.nxedge.io/wp-content/uploads/2025/01/Dollar.jpeg
GEO:35.1435084;-82.8391879
X-APPLE-STRUCTURED-LOCATION;VALUE=URI;X-ADDRESS=Forks of the River Taproom 25 Parkway Road Rosman NC 28772 United States;X-APPLE-RADIUS=500;X-TITLE=25 Parkway Road:geo:-82.8391879,35.1435084
END:VEVENT
BEGIN:VEVENT
DTSTART;TZID=America/New_York:20250318T140000
DTEND;TZID=America/New_York:20250318T180000
DTSTAMP:20260424T212614
CREATED:20250122T192235Z
LAST-MODIFIED:20250122T192235Z
UID:1489877-1742306400-1742320800@headwatersoutfitters.com
SUMMARY:$1 off Drafts Monday's & Tuesday's
DESCRIPTION:Join us on Monday’s and Tuesday’s for dollar off drafts during our winter hours (2 PM until 6 PM).
URL:https://headwatersoutfitters.com/event/1-off-drafts-mondays-tuesdays/2025-03-18/
LOCATION:Forks of the River Taproom\, 25 Parkway Road\, Rosman\, NC\, 28772\, United States
ATTACH;FMTTYPE=image/jpeg:https://eadn-wc01-7181330.nxedge.io/wp-content/uploads/2025/01/Dollar.jpeg
GEO:35.1435084;-82.8391879
X-APPLE-STRUCTURED-LOCATION;VALUE=URI;X-ADDRESS=Forks of the River Taproom 25 Parkway Road Rosman NC 28772 United States;X-APPLE-RADIUS=500;X-TITLE=25 Parkway Road:geo:-82.8391879,35.1435084
END:VEVENT
BEGIN:VEVENT
DTSTART;TZID=America/New_York:20250317T140000
DTEND;TZID=America/New_York:20250317T180000
DTSTAMP:20260424T212614
CREATED:20250122T192235Z
LAST-MODIFIED:20250122T192235Z
UID:1489876-1742220000-1742234400@headwatersoutfitters.com
SUMMARY:$1 off Drafts Monday's & Tuesday's
DESCRIPTION:Join us on Monday’s and Tuesday’s for dollar off drafts during our winter hours (2 PM until 6 PM).
URL:https://headwatersoutfitters.com/event/1-off-drafts-mondays-tuesdays/2025-03-17/
LOCATION:Forks of the River Taproom\, 25 Parkway Road\, Rosman\, NC\, 28772\, United States
ATTACH;FMTTYPE=image/jpeg:https://eadn-wc01-7181330.nxedge.io/wp-content/uploads/2025/01/Dollar.jpeg
GEO:35.1435084;-82.8391879
X-APPLE-STRUCTURED-LOCATION;VALUE=URI;X-ADDRESS=Forks of the River Taproom 25 Parkway Road Rosman NC 28772 United States;X-APPLE-RADIUS=500;X-TITLE=25 Parkway Road:geo:-82.8391879,35.1435084
END:VEVENT
BEGIN:VEVENT
DTSTART;TZID=America/New_York:20250311T140000
DTEND;TZID=America/New_York:20250311T180000
DTSTAMP:20260424T212614
CREATED:20250122T192235Z
LAST-MODIFIED:20250122T192235Z
UID:1489875-1741701600-1741716000@headwatersoutfitters.com
SUMMARY:$1 off Drafts Monday's & Tuesday's
DESCRIPTION:Join us on Monday’s and Tuesday’s for dollar off drafts during our winter hours (2 PM until 6 PM).
URL:https://headwatersoutfitters.com/event/1-off-drafts-mondays-tuesdays/2025-03-11/
LOCATION:Forks of the River Taproom\, 25 Parkway Road\, Rosman\, NC\, 28772\, United States
ATTACH;FMTTYPE=image/jpeg:https://eadn-wc01-7181330.nxedge.io/wp-content/uploads/2025/01/Dollar.jpeg
GEO:35.1435084;-82.8391879
X-APPLE-STRUCTURED-LOCATION;VALUE=URI;X-ADDRESS=Forks of the River Taproom 25 Parkway Road Rosman NC 28772 United States;X-APPLE-RADIUS=500;X-TITLE=25 Parkway Road:geo:-82.8391879,35.1435084
END:VEVENT
BEGIN:VEVENT
DTSTART;TZID=America/New_York:20250310T140000
DTEND;TZID=America/New_York:20250310T180000
DTSTAMP:20260424T212614
CREATED:20250122T192235Z
LAST-MODIFIED:20250122T192235Z
UID:1489874-1741615200-1741629600@headwatersoutfitters.com
SUMMARY:$1 off Drafts Monday's & Tuesday's
DESCRIPTION:Join us on Monday’s and Tuesday’s for dollar off drafts during our winter hours (2 PM until 6 PM).
URL:https://headwatersoutfitters.com/event/1-off-drafts-mondays-tuesdays/2025-03-10/
LOCATION:Forks of the River Taproom\, 25 Parkway Road\, Rosman\, NC\, 28772\, United States
ATTACH;FMTTYPE=image/jpeg:https://eadn-wc01-7181330.nxedge.io/wp-content/uploads/2025/01/Dollar.jpeg
GEO:35.1435084;-82.8391879
X-APPLE-STRUCTURED-LOCATION;VALUE=URI;X-ADDRESS=Forks of the River Taproom 25 Parkway Road Rosman NC 28772 United States;X-APPLE-RADIUS=500;X-TITLE=25 Parkway Road:geo:-82.8391879,35.1435084
END:VEVENT
BEGIN:VEVENT
DTSTART;TZID=America/New_York:20250304T140000
DTEND;TZID=America/New_York:20250304T180000
DTSTAMP:20260424T212614
CREATED:20250122T192235Z
LAST-MODIFIED:20250122T192235Z
UID:1489873-1741096800-1741111200@headwatersoutfitters.com
SUMMARY:$1 off Drafts Monday's & Tuesday's
DESCRIPTION:Join us on Monday’s and Tuesday’s for dollar off drafts during our winter hours (2 PM until 6 PM).
URL:https://headwatersoutfitters.com/event/1-off-drafts-mondays-tuesdays/2025-03-04/
LOCATION:Forks of the River Taproom\, 25 Parkway Road\, Rosman\, NC\, 28772\, United States
ATTACH;FMTTYPE=image/jpeg:https://eadn-wc01-7181330.nxedge.io/wp-content/uploads/2025/01/Dollar.jpeg
GEO:35.1435084;-82.8391879
X-APPLE-STRUCTURED-LOCATION;VALUE=URI;X-ADDRESS=Forks of the River Taproom 25 Parkway Road Rosman NC 28772 United States;X-APPLE-RADIUS=500;X-TITLE=25 Parkway Road:geo:-82.8391879,35.1435084
END:VEVENT
BEGIN:VEVENT
DTSTART;TZID=America/New_York:20250303T140000
DTEND;TZID=America/New_York:20250303T180000
DTSTAMP:20260424T212614
CREATED:20250122T192235Z
LAST-MODIFIED:20250122T192235Z
UID:1489871-1741010400-1741024800@headwatersoutfitters.com
SUMMARY:$1 off Drafts Monday's & Tuesday's
DESCRIPTION:Join us on Monday’s and Tuesday’s for dollar off drafts during our winter hours (2 PM until 6 PM).
URL:https://headwatersoutfitters.com/event/1-off-drafts-mondays-tuesdays/2025-03-03/
LOCATION:Forks of the River Taproom\, 25 Parkway Road\, Rosman\, NC\, 28772\, United States
ATTACH;FMTTYPE=image/jpeg:https://eadn-wc01-7181330.nxedge.io/wp-content/uploads/2025/01/Dollar.jpeg
GEO:35.1435084;-82.8391879
X-APPLE-STRUCTURED-LOCATION;VALUE=URI;X-ADDRESS=Forks of the River Taproom 25 Parkway Road Rosman NC 28772 United States;X-APPLE-RADIUS=500;X-TITLE=25 Parkway Road:geo:-82.8391879,35.1435084
END:VEVENT
BEGIN:VEVENT
DTSTART;TZID=America/New_York:20250225T140000
DTEND;TZID=America/New_York:20250225T180000
DTSTAMP:20260424T212614
CREATED:20250122T192235Z
LAST-MODIFIED:20250122T192235Z
UID:1489870-1740492000-1740506400@headwatersoutfitters.com
SUMMARY:$1 off Drafts Monday's & Tuesday's
DESCRIPTION:Join us on Monday’s and Tuesday’s for dollar off drafts during our winter hours (2 PM until 6 PM).
URL:https://headwatersoutfitters.com/event/1-off-drafts-mondays-tuesdays/2025-02-25/
LOCATION:Forks of the River Taproom\, 25 Parkway Road\, Rosman\, NC\, 28772\, United States
ATTACH;FMTTYPE=image/jpeg:https://eadn-wc01-7181330.nxedge.io/wp-content/uploads/2025/01/Dollar.jpeg
GEO:35.1435084;-82.8391879
X-APPLE-STRUCTURED-LOCATION;VALUE=URI;X-ADDRESS=Forks of the River Taproom 25 Parkway Road Rosman NC 28772 United States;X-APPLE-RADIUS=500;X-TITLE=25 Parkway Road:geo:-82.8391879,35.1435084
END:VEVENT
BEGIN:VEVENT
DTSTART;TZID=America/New_York:20250224T140000
DTEND;TZID=America/New_York:20250224T180000
DTSTAMP:20260424T212614
CREATED:20250122T192235Z
LAST-MODIFIED:20250122T192235Z
UID:1489869-1740405600-1740420000@headwatersoutfitters.com
SUMMARY:$1 off Drafts Monday's & Tuesday's
DESCRIPTION:Join us on Monday’s and Tuesday’s for dollar off drafts during our winter hours (2 PM until 6 PM).
URL:https://headwatersoutfitters.com/event/1-off-drafts-mondays-tuesdays/2025-02-24/
LOCATION:Forks of the River Taproom\, 25 Parkway Road\, Rosman\, NC\, 28772\, United States
ATTACH;FMTTYPE=image/jpeg:https://eadn-wc01-7181330.nxedge.io/wp-content/uploads/2025/01/Dollar.jpeg
GEO:35.1435084;-82.8391879
X-APPLE-STRUCTURED-LOCATION;VALUE=URI;X-ADDRESS=Forks of the River Taproom 25 Parkway Road Rosman NC 28772 United States;X-APPLE-RADIUS=500;X-TITLE=25 Parkway Road:geo:-82.8391879,35.1435084
END:VEVENT
BEGIN:VEVENT
DTSTART;TZID=America/New_York:20250218T140000
DTEND;TZID=America/New_York:20250218T180000
DTSTAMP:20260424T212614
CREATED:20250122T192235Z
LAST-MODIFIED:20250122T192235Z
UID:1489868-1739887200-1739901600@headwatersoutfitters.com
SUMMARY:$1 off Drafts Monday's & Tuesday's
DESCRIPTION:Join us on Monday’s and Tuesday’s for dollar off drafts during our winter hours (2 PM until 6 PM).
URL:https://headwatersoutfitters.com/event/1-off-drafts-mondays-tuesdays/2025-02-18/
LOCATION:Forks of the River Taproom\, 25 Parkway Road\, Rosman\, NC\, 28772\, United States
ATTACH;FMTTYPE=image/jpeg:https://eadn-wc01-7181330.nxedge.io/wp-content/uploads/2025/01/Dollar.jpeg
GEO:35.1435084;-82.8391879
X-APPLE-STRUCTURED-LOCATION;VALUE=URI;X-ADDRESS=Forks of the River Taproom 25 Parkway Road Rosman NC 28772 United States;X-APPLE-RADIUS=500;X-TITLE=25 Parkway Road:geo:-82.8391879,35.1435084
END:VEVENT
BEGIN:VEVENT
DTSTART;TZID=America/New_York:20250217T140000
DTEND;TZID=America/New_York:20250217T180000
DTSTAMP:20260424T212614
CREATED:20250122T192235Z
LAST-MODIFIED:20250122T192235Z
UID:1489867-1739800800-1739815200@headwatersoutfitters.com
SUMMARY:$1 off Drafts Monday's & Tuesday's
DESCRIPTION:Join us on Monday’s and Tuesday’s for dollar off drafts during our winter hours (2 PM until 6 PM).
URL:https://headwatersoutfitters.com/event/1-off-drafts-mondays-tuesdays/2025-02-17/
LOCATION:Forks of the River Taproom\, 25 Parkway Road\, Rosman\, NC\, 28772\, United States
ATTACH;FMTTYPE=image/jpeg:https://eadn-wc01-7181330.nxedge.io/wp-content/uploads/2025/01/Dollar.jpeg
GEO:35.1435084;-82.8391879
X-APPLE-STRUCTURED-LOCATION;VALUE=URI;X-ADDRESS=Forks of the River Taproom 25 Parkway Road Rosman NC 28772 United States;X-APPLE-RADIUS=500;X-TITLE=25 Parkway Road:geo:-82.8391879,35.1435084
END:VEVENT
BEGIN:VEVENT
DTSTART;TZID=America/New_York:20250211T140000
DTEND;TZID=America/New_York:20250211T180000
DTSTAMP:20260424T212614
CREATED:20250122T192235Z
LAST-MODIFIED:20250122T192235Z
UID:1489866-1739282400-1739296800@headwatersoutfitters.com
SUMMARY:$1 off Drafts Monday's & Tuesday's
DESCRIPTION:Join us on Monday’s and Tuesday’s for dollar off drafts during our winter hours (2 PM until 6 PM).
URL:https://headwatersoutfitters.com/event/1-off-drafts-mondays-tuesdays/2025-02-11/
LOCATION:Forks of the River Taproom\, 25 Parkway Road\, Rosman\, NC\, 28772\, United States
ATTACH;FMTTYPE=image/jpeg:https://eadn-wc01-7181330.nxedge.io/wp-content/uploads/2025/01/Dollar.jpeg
GEO:35.1435084;-82.8391879
X-APPLE-STRUCTURED-LOCATION;VALUE=URI;X-ADDRESS=Forks of the River Taproom 25 Parkway Road Rosman NC 28772 United States;X-APPLE-RADIUS=500;X-TITLE=25 Parkway Road:geo:-82.8391879,35.1435084
END:VEVENT
BEGIN:VEVENT
DTSTART;TZID=America/New_York:20250210T140000
DTEND;TZID=America/New_York:20250210T180000
DTSTAMP:20260424T212614
CREATED:20250122T192235Z
LAST-MODIFIED:20250122T192235Z
UID:1489865-1739196000-1739210400@headwatersoutfitters.com
SUMMARY:$1 off Drafts Monday's & Tuesday's
DESCRIPTION:Join us on Monday’s and Tuesday’s for dollar off drafts during our winter hours (2 PM until 6 PM).
URL:https://headwatersoutfitters.com/event/1-off-drafts-mondays-tuesdays/2025-02-10/
LOCATION:Forks of the River Taproom\, 25 Parkway Road\, Rosman\, NC\, 28772\, United States
ATTACH;FMTTYPE=image/jpeg:https://eadn-wc01-7181330.nxedge.io/wp-content/uploads/2025/01/Dollar.jpeg
GEO:35.1435084;-82.8391879
X-APPLE-STRUCTURED-LOCATION;VALUE=URI;X-ADDRESS=Forks of the River Taproom 25 Parkway Road Rosman NC 28772 United States;X-APPLE-RADIUS=500;X-TITLE=25 Parkway Road:geo:-82.8391879,35.1435084
END:VEVENT
BEGIN:VEVENT
DTSTART;TZID=America/New_York:20250204T140000
DTEND;TZID=America/New_York:20250204T180000
DTSTAMP:20260424T212614
CREATED:20250122T192235Z
LAST-MODIFIED:20250122T192235Z
UID:1489864-1738677600-1738692000@headwatersoutfitters.com
SUMMARY:$1 off Drafts Monday's & Tuesday's
DESCRIPTION:Join us on Monday’s and Tuesday’s for dollar off drafts during our winter hours (2 PM until 6 PM).
URL:https://headwatersoutfitters.com/event/1-off-drafts-mondays-tuesdays/2025-02-04/
LOCATION:Forks of the River Taproom\, 25 Parkway Road\, Rosman\, NC\, 28772\, United States
ATTACH;FMTTYPE=image/jpeg:https://eadn-wc01-7181330.nxedge.io/wp-content/uploads/2025/01/Dollar.jpeg
GEO:35.1435084;-82.8391879
X-APPLE-STRUCTURED-LOCATION;VALUE=URI;X-ADDRESS=Forks of the River Taproom 25 Parkway Road Rosman NC 28772 United States;X-APPLE-RADIUS=500;X-TITLE=25 Parkway Road:geo:-82.8391879,35.1435084
END:VEVENT
BEGIN:VEVENT
DTSTART;TZID=America/New_York:20250203T140000
DTEND;TZID=America/New_York:20250203T180000
DTSTAMP:20260424T212614
CREATED:20250122T192235Z
LAST-MODIFIED:20250122T192235Z
UID:1489863-1738591200-1738605600@headwatersoutfitters.com
SUMMARY:$1 off Drafts Monday's & Tuesday's
DESCRIPTION:Join us on Monday’s and Tuesday’s for dollar off drafts during our winter hours (2 PM until 6 PM).
URL:https://headwatersoutfitters.com/event/1-off-drafts-mondays-tuesdays/2025-02-03/
LOCATION:Forks of the River Taproom\, 25 Parkway Road\, Rosman\, NC\, 28772\, United States
ATTACH;FMTTYPE=image/jpeg:https://eadn-wc01-7181330.nxedge.io/wp-content/uploads/2025/01/Dollar.jpeg
GEO:35.1435084;-82.8391879
X-APPLE-STRUCTURED-LOCATION;VALUE=URI;X-ADDRESS=Forks of the River Taproom 25 Parkway Road Rosman NC 28772 United States;X-APPLE-RADIUS=500;X-TITLE=25 Parkway Road:geo:-82.8391879,35.1435084
END:VEVENT
BEGIN:VEVENT
DTSTART;TZID=America/New_York:20250128T140000
DTEND;TZID=America/New_York:20250128T180000
DTSTAMP:20260424T212614
CREATED:20250122T192235Z
LAST-MODIFIED:20250122T192235Z
UID:1489862-1738072800-1738087200@headwatersoutfitters.com
SUMMARY:$1 off Drafts Monday's & Tuesday's
DESCRIPTION:Join us on Monday’s and Tuesday’s for dollar off drafts during our winter hours (2 PM until 6 PM).
URL:https://headwatersoutfitters.com/event/1-off-drafts-mondays-tuesdays/2025-01-28/
LOCATION:Forks of the River Taproom\, 25 Parkway Road\, Rosman\, NC\, 28772\, United States
ATTACH;FMTTYPE=image/jpeg:https://eadn-wc01-7181330.nxedge.io/wp-content/uploads/2025/01/Dollar.jpeg
GEO:35.1435084;-82.8391879
X-APPLE-STRUCTURED-LOCATION;VALUE=URI;X-ADDRESS=Forks of the River Taproom 25 Parkway Road Rosman NC 28772 United States;X-APPLE-RADIUS=500;X-TITLE=25 Parkway Road:geo:-82.8391879,35.1435084
END:VEVENT
BEGIN:VEVENT
DTSTART;TZID=America/New_York:20250127T140000
DTEND;TZID=America/New_York:20250127T180000
DTSTAMP:20260424T212614
CREATED:20250122T192235Z
LAST-MODIFIED:20250122T192235Z
UID:1489860-1737986400-1738000800@headwatersoutfitters.com
SUMMARY:$1 off Drafts Monday's & Tuesday's
DESCRIPTION:Join us on Monday’s and Tuesday’s for dollar off drafts during our winter hours (2 PM until 6 PM).
URL:https://headwatersoutfitters.com/event/1-off-drafts-mondays-tuesdays/2025-01-27/
LOCATION:Forks of the River Taproom\, 25 Parkway Road\, Rosman\, NC\, 28772\, United States
ATTACH;FMTTYPE=image/jpeg:https://eadn-wc01-7181330.nxedge.io/wp-content/uploads/2025/01/Dollar.jpeg
GEO:35.1435084;-82.8391879
X-APPLE-STRUCTURED-LOCATION;VALUE=URI;X-ADDRESS=Forks of the River Taproom 25 Parkway Road Rosman NC 28772 United States;X-APPLE-RADIUS=500;X-TITLE=25 Parkway Road:geo:-82.8391879,35.1435084
END:VEVENT
END:VCALENDAR