BEGIN:VCALENDAR
VERSION:2.0
PRODID:-//Headwaters Outfitters | Fly Fishing, Paddling, Tubing in Rosman, North Carolina - ECPv6.15.18//NONSGML v1.0//EN
CALSCALE:GREGORIAN
METHOD:PUBLISH
X-WR-CALNAME:Headwaters Outfitters | Fly Fishing, Paddling, Tubing in Rosman, North Carolina
X-ORIGINAL-URL:https://headwatersoutfitters.com
X-WR-CALDESC:Events for Headwaters Outfitters | Fly Fishing, Paddling, Tubing in Rosman, North Carolina
REFRESH-INTERVAL;VALUE=DURATION:PT1H
X-Robots-Tag:noindex
X-PUBLISHED-TTL:PT1H
BEGIN:VTIMEZONE
TZID:America/New_York
BEGIN:DAYLIGHT
TZOFFSETFROM:-0500
TZOFFSETTO:-0400
TZNAME:EDT
DTSTART:20230312T070000
END:DAYLIGHT
BEGIN:STANDARD
TZOFFSETFROM:-0400
TZOFFSETTO:-0500
TZNAME:EST
DTSTART:20231105T060000
END:STANDARD
BEGIN:DAYLIGHT
TZOFFSETFROM:-0500
TZOFFSETTO:-0400
TZNAME:EDT
DTSTART:20240310T070000
END:DAYLIGHT
BEGIN:STANDARD
TZOFFSETFROM:-0400
TZOFFSETTO:-0500
TZNAME:EST
DTSTART:20241103T060000
END:STANDARD
BEGIN:DAYLIGHT
TZOFFSETFROM:-0500
TZOFFSETTO:-0400
TZNAME:EDT
DTSTART:20250309T070000
END:DAYLIGHT
BEGIN:STANDARD
TZOFFSETFROM:-0400
TZOFFSETTO:-0500
TZNAME:EST
DTSTART:20251102T060000
END:STANDARD
END:VTIMEZONE
BEGIN:VEVENT
DTSTART;TZID=America/New_York:20241004T100000
DTEND;TZID=America/New_York:20241004T130000
DTSTAMP:20260424T214615
CREATED:20240904T180121Z
LAST-MODIFIED:20240904T180121Z
UID:1489601-1728036000-1728046800@headwatersoutfitters.com
SUMMARY:Cruise then Booze with Oskar Blues Fall Edition
DESCRIPTION:Explore fall colors from the banks of the 3rd oldest river in the world\, with a 2-hour paddle trip down the French Broad and end at Oskar Blues Brewery for a cold craft beer\, the Chubwagon Food Truck\, and more! (drinks not included in cost). \nThis morning paddle\, is a great way to experience the wildlife\, sounds and sights of the Historic French Broad River. \nHeadwaters Outfitters will meet you at Oskar Blues Brewery at 9:30 am with your boats\, life-jackets\, and paddles. A quick 2-minute shuttle to the Pisgah Forest Access\, where our staff will assist you in getting geared up for your paddle. After our safety orientation\, you will be on your way. End your paddle at Penrose Access. A quick 10-15 minute shuttle\, will take you back to Oskar Blues and the taproom is open till 10:00 pm. Drink Responsibly! Reservations Required! \nDrinks Not Included In Cost
URL:https://headwatersoutfitters.com/event/cruise-then-booze-with-oskar-blues-fall-edition/2024-10-04/
LOCATION:Oskar Blues Brewery\, 342 Mountain Industrial Drive\, Brevard\, NC\, 28712\, United States
CATEGORIES:Paddling Events
ATTACH;FMTTYPE=image/jpeg:https://eadn-wc01-7181330.nxedge.io/wp-content/uploads/2024/09/Oskar-Blues-Fall-FH.jpg
GEO:35.2535881;-82.7067672
X-APPLE-STRUCTURED-LOCATION;VALUE=URI;X-ADDRESS=Oskar Blues Brewery 342 Mountain Industrial Drive Brevard NC 28712 United States;X-APPLE-RADIUS=500;X-TITLE=342 Mountain Industrial Drive:geo:-82.7067672,35.2535881
END:VEVENT
BEGIN:VEVENT
DTSTART;TZID=America/New_York:20240927T100000
DTEND;TZID=America/New_York:20240927T130000
DTSTAMP:20260424T214615
CREATED:20240904T180121Z
LAST-MODIFIED:20240904T180121Z
UID:1489600-1727431200-1727442000@headwatersoutfitters.com
SUMMARY:Cruise then Booze with Oskar Blues Fall Edition
DESCRIPTION:Explore fall colors from the banks of the 3rd oldest river in the world\, with a 2-hour paddle trip down the French Broad and end at Oskar Blues Brewery for a cold craft beer\, the Chubwagon Food Truck\, and more! (drinks not included in cost). \nThis morning paddle\, is a great way to experience the wildlife\, sounds and sights of the Historic French Broad River. \nHeadwaters Outfitters will meet you at Oskar Blues Brewery at 9:30 am with your boats\, life-jackets\, and paddles. A quick 2-minute shuttle to the Pisgah Forest Access\, where our staff will assist you in getting geared up for your paddle. After our safety orientation\, you will be on your way. End your paddle at Penrose Access. A quick 10-15 minute shuttle\, will take you back to Oskar Blues and the taproom is open till 10:00 pm. Drink Responsibly! Reservations Required! \nDrinks Not Included In Cost
URL:https://headwatersoutfitters.com/event/cruise-then-booze-with-oskar-blues-fall-edition/2024-09-27/
LOCATION:Oskar Blues Brewery\, 342 Mountain Industrial Drive\, Brevard\, NC\, 28712\, United States
CATEGORIES:Paddling Events
ATTACH;FMTTYPE=image/jpeg:https://eadn-wc01-7181330.nxedge.io/wp-content/uploads/2024/09/Oskar-Blues-Fall-FH.jpg
GEO:35.2535881;-82.7067672
X-APPLE-STRUCTURED-LOCATION;VALUE=URI;X-ADDRESS=Oskar Blues Brewery 342 Mountain Industrial Drive Brevard NC 28712 United States;X-APPLE-RADIUS=500;X-TITLE=342 Mountain Industrial Drive:geo:-82.7067672,35.2535881
END:VEVENT
BEGIN:VEVENT
DTSTART;TZID=America/New_York:20240920T100000
DTEND;TZID=America/New_York:20240920T130000
DTSTAMP:20260424T214616
CREATED:20240904T180121Z
LAST-MODIFIED:20240904T180121Z
UID:1489598-1726826400-1726837200@headwatersoutfitters.com
SUMMARY:Cruise then Booze with Oskar Blues Fall Edition
DESCRIPTION:Explore fall colors from the banks of the 3rd oldest river in the world\, with a 2-hour paddle trip down the French Broad and end at Oskar Blues Brewery for a cold craft beer\, the Chubwagon Food Truck\, and more! (drinks not included in cost). \nThis morning paddle\, is a great way to experience the wildlife\, sounds and sights of the Historic French Broad River. \nHeadwaters Outfitters will meet you at Oskar Blues Brewery at 9:30 am with your boats\, life-jackets\, and paddles. A quick 2-minute shuttle to the Pisgah Forest Access\, where our staff will assist you in getting geared up for your paddle. After our safety orientation\, you will be on your way. End your paddle at Penrose Access. A quick 10-15 minute shuttle\, will take you back to Oskar Blues and the taproom is open till 10:00 pm. Drink Responsibly! Reservations Required! \nDrinks Not Included In Cost
URL:https://headwatersoutfitters.com/event/cruise-then-booze-with-oskar-blues-fall-edition/2024-09-20/
LOCATION:Oskar Blues Brewery\, 342 Mountain Industrial Drive\, Brevard\, NC\, 28712\, United States
CATEGORIES:Paddling Events
ATTACH;FMTTYPE=image/jpeg:https://eadn-wc01-7181330.nxedge.io/wp-content/uploads/2024/09/Oskar-Blues-Fall-FH.jpg
GEO:35.2535881;-82.7067672
X-APPLE-STRUCTURED-LOCATION;VALUE=URI;X-ADDRESS=Oskar Blues Brewery 342 Mountain Industrial Drive Brevard NC 28712 United States;X-APPLE-RADIUS=500;X-TITLE=342 Mountain Industrial Drive:geo:-82.7067672,35.2535881
END:VEVENT
END:VCALENDAR