BEGIN:VCALENDAR
VERSION:2.0
PRODID:-//Headwaters Outfitters | Fly Fishing, Paddling, Tubing in Rosman, North Carolina - ECPv6.15.18//NONSGML v1.0//EN
CALSCALE:GREGORIAN
METHOD:PUBLISH
X-WR-CALNAME:Headwaters Outfitters | Fly Fishing, Paddling, Tubing in Rosman, North Carolina
X-ORIGINAL-URL:https://headwatersoutfitters.com
X-WR-CALDESC:Events for Headwaters Outfitters | Fly Fishing, Paddling, Tubing in Rosman, North Carolina
REFRESH-INTERVAL;VALUE=DURATION:PT1H
X-Robots-Tag:noindex
X-PUBLISHED-TTL:PT1H
BEGIN:VTIMEZONE
TZID:America/New_York
BEGIN:DAYLIGHT
TZOFFSETFROM:-0500
TZOFFSETTO:-0400
TZNAME:EDT
DTSTART:20240310T070000
END:DAYLIGHT
BEGIN:STANDARD
TZOFFSETFROM:-0400
TZOFFSETTO:-0500
TZNAME:EST
DTSTART:20241103T060000
END:STANDARD
BEGIN:DAYLIGHT
TZOFFSETFROM:-0500
TZOFFSETTO:-0400
TZNAME:EDT
DTSTART:20250309T070000
END:DAYLIGHT
BEGIN:STANDARD
TZOFFSETFROM:-0400
TZOFFSETTO:-0500
TZNAME:EST
DTSTART:20251102T060000
END:STANDARD
BEGIN:DAYLIGHT
TZOFFSETFROM:-0500
TZOFFSETTO:-0400
TZNAME:EDT
DTSTART:20260308T070000
END:DAYLIGHT
BEGIN:STANDARD
TZOFFSETFROM:-0400
TZOFFSETTO:-0500
TZNAME:EST
DTSTART:20261101T060000
END:STANDARD
END:VTIMEZONE
BEGIN:VEVENT
DTSTART;TZID=America/New_York:20251017T180000
DTEND;TZID=America/New_York:20251017T200000
DTSTAMP:20260424T164828
CREATED:20250929T202340Z
LAST-MODIFIED:20250929T202340Z
UID:1490580-1760724000-1760731200@headwatersoutfitters.com
SUMMARY:Friday Evening Porch Sessions ft. Pisgah Playboys
DESCRIPTION:Friday Evening Porch Sessions are back!  This week we welcome Pisgah Playboys to the porch from 6–8pm. Grab a seat\, enjoy good food from Levi’s Lunchbox\, and kick off your weekend with live music by the river. \nThis is a group of musicians seasoned harder than shagbark hickory. Whittling away at the boundaries between western swing\, blue moon country and mountain music and always keeping the leather boots thumping on worn wooden floors. Fresh off of retirement and hotter than a four balled tomcat\, Jerry Sapp\, fearlessly leads this four piece into parts unknown… yet strangely familiar.  Joined by Adam Masters on the fiddle\, John Trufant on Guitar and Vocals and JT Linville on the upright bass.
URL:https://headwatersoutfitters.com/event/friday-evening-porch-sessions-ft-pisgah-playboys/2025-10-17/
LOCATION:Forks of the River Taproom\, 25 Parkway Road\, Rosman\, NC\, 28772\, United States
CATEGORIES:Taproom
ATTACH;FMTTYPE=image/png:https://eadn-wc01-7181330.nxedge.io/wp-content/uploads/2025/09/Live-Music-copy.png
GEO:35.1435084;-82.8391879
X-APPLE-STRUCTURED-LOCATION;VALUE=URI;X-ADDRESS=Forks of the River Taproom 25 Parkway Road Rosman NC 28772 United States;X-APPLE-RADIUS=500;X-TITLE=25 Parkway Road:geo:-82.8391879,35.1435084
END:VEVENT
BEGIN:VEVENT
DTSTART;TZID=America/New_York:20251010T180000
DTEND;TZID=America/New_York:20251010T200000
DTSTAMP:20260424T164828
CREATED:20250929T202340Z
LAST-MODIFIED:20250929T202340Z
UID:1490578-1760119200-1760126400@headwatersoutfitters.com
SUMMARY:Friday Evening Porch Sessions ft. Pisgah Playboys
DESCRIPTION:Friday Evening Porch Sessions are back!  This week we welcome Pisgah Playboys to the porch from 6–8pm. Grab a seat\, enjoy good food from Levi’s Lunchbox\, and kick off your weekend with live music by the river. \nThis is a group of musicians seasoned harder than shagbark hickory. Whittling away at the boundaries between western swing\, blue moon country and mountain music and always keeping the leather boots thumping on worn wooden floors. Fresh off of retirement and hotter than a four balled tomcat\, Jerry Sapp\, fearlessly leads this four piece into parts unknown… yet strangely familiar.  Joined by Adam Masters on the fiddle\, John Trufant on Guitar and Vocals and JT Linville on the upright bass.
URL:https://headwatersoutfitters.com/event/friday-evening-porch-sessions-ft-pisgah-playboys/2025-10-10/
LOCATION:Forks of the River Taproom\, 25 Parkway Road\, Rosman\, NC\, 28772\, United States
CATEGORIES:Taproom
ATTACH;FMTTYPE=image/png:https://eadn-wc01-7181330.nxedge.io/wp-content/uploads/2025/09/Live-Music-copy.png
GEO:35.1435084;-82.8391879
X-APPLE-STRUCTURED-LOCATION;VALUE=URI;X-ADDRESS=Forks of the River Taproom 25 Parkway Road Rosman NC 28772 United States;X-APPLE-RADIUS=500;X-TITLE=25 Parkway Road:geo:-82.8391879,35.1435084
END:VEVENT
END:VCALENDAR