BEGIN:VCALENDAR
VERSION:2.0
PRODID:-//Headwaters Outfitters | Fly Fishing, Paddling, Tubing in Rosman, North Carolina - ECPv6.15.18//NONSGML v1.0//EN
CALSCALE:GREGORIAN
METHOD:PUBLISH
X-WR-CALNAME:Headwaters Outfitters | Fly Fishing, Paddling, Tubing in Rosman, North Carolina
X-ORIGINAL-URL:https://headwatersoutfitters.com
X-WR-CALDESC:Events for Headwaters Outfitters | Fly Fishing, Paddling, Tubing in Rosman, North Carolina
REFRESH-INTERVAL;VALUE=DURATION:PT1H
X-Robots-Tag:noindex
X-PUBLISHED-TTL:PT1H
BEGIN:VTIMEZONE
TZID:America/New_York
BEGIN:DAYLIGHT
TZOFFSETFROM:-0500
TZOFFSETTO:-0400
TZNAME:EDT
DTSTART:20240310T070000
END:DAYLIGHT
BEGIN:STANDARD
TZOFFSETFROM:-0400
TZOFFSETTO:-0500
TZNAME:EST
DTSTART:20241103T060000
END:STANDARD
BEGIN:DAYLIGHT
TZOFFSETFROM:-0500
TZOFFSETTO:-0400
TZNAME:EDT
DTSTART:20250309T070000
END:DAYLIGHT
BEGIN:STANDARD
TZOFFSETFROM:-0400
TZOFFSETTO:-0500
TZNAME:EST
DTSTART:20251102T060000
END:STANDARD
BEGIN:DAYLIGHT
TZOFFSETFROM:-0500
TZOFFSETTO:-0400
TZNAME:EDT
DTSTART:20260308T070000
END:DAYLIGHT
BEGIN:STANDARD
TZOFFSETFROM:-0400
TZOFFSETTO:-0500
TZNAME:EST
DTSTART:20261101T060000
END:STANDARD
END:VTIMEZONE
BEGIN:VEVENT
DTSTART;TZID=America/New_York:20250725T180000
DTEND;TZID=America/New_York:20250725T200000
DTSTAMP:20260424T195742
CREATED:20250625T194732Z
LAST-MODIFIED:20250716T144048Z
UID:1490370-1753466400-1753473600@headwatersoutfitters.com
SUMMARY:Friends of the Forks ♫⋆｡♪ - Porch Sessions
DESCRIPTION:Friday evening porch sessions are back! Join us on Friday July 25th for music by Friends of the Forks at 6:00 pm. We will have a food truck on site and cold drinks pouring in the taproom. This event happens rain or shine! \nFriends of the Forks is a Rosman-based-river-themed folk and Americana group. Comprised of community-oriented musicians\, they contribute cultural heritage to regional celebrations through acoustic performances. The band’s core personnel – Jerry Sapp\, JT Linville\, John Trufont\, and Adam Masters.
URL:https://headwatersoutfitters.com/event/friends-of-the-forks-%e2%99%ab%e2%8b%86%ef%bd%a1%e2%99%aa-porch-sessions-2025-07-18/2025-07-25/
LOCATION:Forks of the River Taproom\, 25 Parkway Road\, Rosman\, NC\, 28772\, United States
ATTACH;FMTTYPE=image/png:https://eadn-wc01-7181330.nxedge.io/wp-content/uploads/2025/06/Live-Music.png
GEO:35.1435084;-82.8391879
X-APPLE-STRUCTURED-LOCATION;VALUE=URI;X-ADDRESS=Forks of the River Taproom 25 Parkway Road Rosman NC 28772 United States;X-APPLE-RADIUS=500;X-TITLE=25 Parkway Road:geo:-82.8391879,35.1435084
END:VEVENT
END:VCALENDAR