BEGIN:VCALENDAR
VERSION:2.0
PRODID:-//Headwaters Outfitters | Fly Fishing, Paddling, Tubing in Rosman, North Carolina - ECPv6.15.18//NONSGML v1.0//EN
CALSCALE:GREGORIAN
METHOD:PUBLISH
X-WR-CALNAME:Headwaters Outfitters | Fly Fishing, Paddling, Tubing in Rosman, North Carolina
X-ORIGINAL-URL:https://headwatersoutfitters.com
X-WR-CALDESC:Events for Headwaters Outfitters | Fly Fishing, Paddling, Tubing in Rosman, North Carolina
REFRESH-INTERVAL;VALUE=DURATION:PT1H
X-Robots-Tag:noindex
X-PUBLISHED-TTL:PT1H
BEGIN:VTIMEZONE
TZID:America/New_York
BEGIN:DAYLIGHT
TZOFFSETFROM:-0500
TZOFFSETTO:-0400
TZNAME:EDT
DTSTART:20240310T070000
END:DAYLIGHT
BEGIN:STANDARD
TZOFFSETFROM:-0400
TZOFFSETTO:-0500
TZNAME:EST
DTSTART:20241103T060000
END:STANDARD
BEGIN:DAYLIGHT
TZOFFSETFROM:-0500
TZOFFSETTO:-0400
TZNAME:EDT
DTSTART:20250309T070000
END:DAYLIGHT
BEGIN:STANDARD
TZOFFSETFROM:-0400
TZOFFSETTO:-0500
TZNAME:EST
DTSTART:20251102T060000
END:STANDARD
BEGIN:DAYLIGHT
TZOFFSETFROM:-0500
TZOFFSETTO:-0400
TZNAME:EDT
DTSTART:20260308T070000
END:DAYLIGHT
BEGIN:STANDARD
TZOFFSETFROM:-0400
TZOFFSETTO:-0500
TZNAME:EST
DTSTART:20261101T060000
END:STANDARD
END:VTIMEZONE
BEGIN:VEVENT
DTSTART;TZID=America/New_York:20250807T173000
DTEND;TZID=America/New_York:20250807T210000
DTSTAMP:20260424T195553
CREATED:20250709T191617Z
LAST-MODIFIED:20250709T191657Z
UID:1490393-1754587800-1754600400@headwatersoutfitters.com
SUMMARY:Karaoke Night
DESCRIPTION:🎤 Karaoke Nights at Forks of the River Taproom 🎶 \nGet ready to sing your heart out by the river! Join us for Karaoke Night on select Wednesdays this summer—July 10\, July 24\, August 7\, and August 21—starting at 5:30 PM. \nBring your friends\, pick your favorite tunes\, and soak up the mountain vibes. Whether you’re a country crooner\, a pop star\, or just here for the fun\, all are welcome to take the mic or cheer on the singers. \n🍔 Food Truck on Site\n🍺 Cold Beer Flowing in the Taproom\n💃 Tunes\, dancing\, and unforgettable country nights \nCome make memories by the river—no cover\, just good times! Gratuity for DJ is acceptable if you had a great time! \n 
URL:https://headwatersoutfitters.com/event/karaoke-night/2025-08-07/
LOCATION:Forks of the River Taproom\, 25 Parkway Road\, Rosman\, NC\, 28772\, United States
CATEGORIES:Taproom
ATTACH;FMTTYPE=image/png:https://eadn-wc01-7181330.nxedge.io/wp-content/uploads/2025/07/Karaoke-Night-this-Thursday-Join-us-at-530-pm-for-the-fun-El-Querubin-food-truck-will-be-on-site.-1.png
GEO:35.1435084;-82.8391879
X-APPLE-STRUCTURED-LOCATION;VALUE=URI;X-ADDRESS=Forks of the River Taproom 25 Parkway Road Rosman NC 28772 United States;X-APPLE-RADIUS=500;X-TITLE=25 Parkway Road:geo:-82.8391879,35.1435084
END:VEVENT
BEGIN:VEVENT
DTSTART;TZID=America/New_York:20250724T173000
DTEND;TZID=America/New_York:20250724T210000
DTSTAMP:20260424T195553
CREATED:20250709T191617Z
LAST-MODIFIED:20250709T191656Z
UID:1490392-1753378200-1753390800@headwatersoutfitters.com
SUMMARY:Karaoke Night
DESCRIPTION:🎤 Karaoke Nights at Forks of the River Taproom 🎶 \nGet ready to sing your heart out by the river! Join us for Karaoke Night on select Wednesdays this summer—July 10\, July 24\, August 7\, and August 21—starting at 5:30 PM. \nBring your friends\, pick your favorite tunes\, and soak up the mountain vibes. Whether you’re a country crooner\, a pop star\, or just here for the fun\, all are welcome to take the mic or cheer on the singers. \n🍔 Food Truck on Site\n🍺 Cold Beer Flowing in the Taproom\n💃 Tunes\, dancing\, and unforgettable country nights \nCome make memories by the river—no cover\, just good times! Gratuity for DJ is acceptable if you had a great time! \n 
URL:https://headwatersoutfitters.com/event/karaoke-night/2025-07-24/
LOCATION:Forks of the River Taproom\, 25 Parkway Road\, Rosman\, NC\, 28772\, United States
CATEGORIES:Taproom
ATTACH;FMTTYPE=image/png:https://eadn-wc01-7181330.nxedge.io/wp-content/uploads/2025/07/Karaoke-Night-this-Thursday-Join-us-at-530-pm-for-the-fun-El-Querubin-food-truck-will-be-on-site.-1.png
GEO:35.1435084;-82.8391879
X-APPLE-STRUCTURED-LOCATION;VALUE=URI;X-ADDRESS=Forks of the River Taproom 25 Parkway Road Rosman NC 28772 United States;X-APPLE-RADIUS=500;X-TITLE=25 Parkway Road:geo:-82.8391879,35.1435084
END:VEVENT
BEGIN:VEVENT
DTSTART;TZID=America/New_York:20250710T173000
DTEND;TZID=America/New_York:20250710T210000
DTSTAMP:20260424T195553
CREATED:20250709T191617Z
LAST-MODIFIED:20250709T191656Z
UID:1490389-1752168600-1752181200@headwatersoutfitters.com
SUMMARY:Karaoke Night
DESCRIPTION:🎤 Karaoke Nights at Forks of the River Taproom 🎶 \nGet ready to sing your heart out by the river! Join us for Karaoke Night on select Wednesdays this summer—July 10\, July 24\, August 7\, and August 21—starting at 5:30 PM. \nBring your friends\, pick your favorite tunes\, and soak up the mountain vibes. Whether you’re a country crooner\, a pop star\, or just here for the fun\, all are welcome to take the mic or cheer on the singers. \n🍔 Food Truck on Site\n🍺 Cold Beer Flowing in the Taproom\n💃 Tunes\, dancing\, and unforgettable country nights \nCome make memories by the river—no cover\, just good times! Gratuity for DJ is acceptable if you had a great time! \n 
URL:https://headwatersoutfitters.com/event/karaoke-night/2025-07-10/
LOCATION:Forks of the River Taproom\, 25 Parkway Road\, Rosman\, NC\, 28772\, United States
CATEGORIES:Taproom
ATTACH;FMTTYPE=image/png:https://eadn-wc01-7181330.nxedge.io/wp-content/uploads/2025/07/Karaoke-Night-this-Thursday-Join-us-at-530-pm-for-the-fun-El-Querubin-food-truck-will-be-on-site.-1.png
GEO:35.1435084;-82.8391879
X-APPLE-STRUCTURED-LOCATION;VALUE=URI;X-ADDRESS=Forks of the River Taproom 25 Parkway Road Rosman NC 28772 United States;X-APPLE-RADIUS=500;X-TITLE=25 Parkway Road:geo:-82.8391879,35.1435084
END:VEVENT
END:VCALENDAR