BEGIN:VCALENDAR
VERSION:2.0
PRODID:-//Headwaters Outfitters | Fly Fishing, Paddling, Tubing in Rosman, North Carolina - ECPv6.15.18//NONSGML v1.0//EN
CALSCALE:GREGORIAN
METHOD:PUBLISH
X-ORIGINAL-URL:https://headwatersoutfitters.com
X-WR-CALDESC:Events for Headwaters Outfitters | Fly Fishing, Paddling, Tubing in Rosman, North Carolina
REFRESH-INTERVAL;VALUE=DURATION:PT1H
X-Robots-Tag:noindex
X-PUBLISHED-TTL:PT1H
BEGIN:VTIMEZONE
TZID:America/New_York
BEGIN:DAYLIGHT
TZOFFSETFROM:-0500
TZOFFSETTO:-0400
TZNAME:EDT
DTSTART:20250309T070000
END:DAYLIGHT
BEGIN:STANDARD
TZOFFSETFROM:-0400
TZOFFSETTO:-0500
TZNAME:EST
DTSTART:20251102T060000
END:STANDARD
BEGIN:DAYLIGHT
TZOFFSETFROM:-0500
TZOFFSETTO:-0400
TZNAME:EDT
DTSTART:20260308T070000
END:DAYLIGHT
BEGIN:STANDARD
TZOFFSETFROM:-0400
TZOFFSETTO:-0500
TZNAME:EST
DTSTART:20261101T060000
END:STANDARD
BEGIN:DAYLIGHT
TZOFFSETFROM:-0500
TZOFFSETTO:-0400
TZNAME:EDT
DTSTART:20270314T070000
END:DAYLIGHT
BEGIN:STANDARD
TZOFFSETFROM:-0400
TZOFFSETTO:-0500
TZNAME:EST
DTSTART:20271107T060000
END:STANDARD
END:VTIMEZONE
BEGIN:VEVENT
DTSTART;TZID=America/New_York:20260426T130000
DTEND;TZID=America/New_York:20260426T160000
DTSTAMP:20260424T180107
CREATED:20260312T201904Z
LAST-MODIFIED:20260312T201904Z
UID:1490916-1777208400-1777219200@headwatersoutfitters.com
SUMMARY:Paddling 101 Clinic
DESCRIPTION:Be better prepared for your first or next paddling outing. \nIf you’re looking to paddle more this year\, or just getting started and interested in what canoeing and kayaking is all about\, we highly recommend you take one of our paddling 101 courses! \nThe class will cover water safety considerations\, techniques\, and skills needed to navigate class 1 moving waters; along with basic canoe and kayak paddling strokes\, trip planning considerations\, gear/equipment\, entry/exit out of your boat\, reading water\, and more. \nReservations are required: $15 Per Person \nOnce your done be sure to stop by our very own Forks Of The River Taproom and grab a cool drink and relax\, you deserve it! Food Truck on site as well.
URL:https://headwatersoutfitters.com/event/paddling-101-clinic/2026-04-26/
LOCATION:Headwaters Outfitters Outdoor Adventures\, 25 Parkway Rd\, Rosman\, NC\, 28772\, United States
CATEGORIES:Educational Presentations/Workshops,Paddling Events
ATTACH;FMTTYPE=image/jpeg:https://eadn-wc01-7181330.nxedge.io/wp-content/uploads/2023/03/HeadwatersOutfitters-cruisethenbooze-oskar-blues2.jpg
GEO:35.1435084;-82.8391879
X-APPLE-STRUCTURED-LOCATION;VALUE=URI;X-ADDRESS=Headwaters Outfitters Outdoor Adventures 25 Parkway Rd Rosman NC 28772 United States;X-APPLE-RADIUS=500;X-TITLE=25 Parkway Rd:geo:-82.8391879,35.1435084
END:VEVENT
BEGIN:VEVENT
DTSTART;TZID=America/New_York:20260526T130000
DTEND;TZID=America/New_York:20260526T160000
DTSTAMP:20260424T180107
CREATED:20260312T201904Z
LAST-MODIFIED:20260312T201904Z
UID:1490917-1779800400-1779811200@headwatersoutfitters.com
SUMMARY:Paddling 101 Clinic
DESCRIPTION:Be better prepared for your first or next paddling outing. \nIf you’re looking to paddle more this year\, or just getting started and interested in what canoeing and kayaking is all about\, we highly recommend you take one of our paddling 101 courses! \nThe class will cover water safety considerations\, techniques\, and skills needed to navigate class 1 moving waters; along with basic canoe and kayak paddling strokes\, trip planning considerations\, gear/equipment\, entry/exit out of your boat\, reading water\, and more. \nReservations are required: $15 Per Person \nOnce your done be sure to stop by our very own Forks Of The River Taproom and grab a cool drink and relax\, you deserve it! Food Truck on site as well.
URL:https://headwatersoutfitters.com/event/paddling-101-clinic/2026-05-26/
LOCATION:Headwaters Outfitters Outdoor Adventures\, 25 Parkway Rd\, Rosman\, NC\, 28772\, United States
CATEGORIES:Educational Presentations/Workshops,Paddling Events
ATTACH;FMTTYPE=image/jpeg:https://eadn-wc01-7181330.nxedge.io/wp-content/uploads/2023/03/HeadwatersOutfitters-cruisethenbooze-oskar-blues2.jpg
GEO:35.1435084;-82.8391879
X-APPLE-STRUCTURED-LOCATION;VALUE=URI;X-ADDRESS=Headwaters Outfitters Outdoor Adventures 25 Parkway Rd Rosman NC 28772 United States;X-APPLE-RADIUS=500;X-TITLE=25 Parkway Rd:geo:-82.8391879,35.1435084
END:VEVENT
BEGIN:VEVENT
DTSTART;TZID=America/New_York:20260628T130000
DTEND;TZID=America/New_York:20260628T160000
DTSTAMP:20260424T180107
CREATED:20260312T201904Z
LAST-MODIFIED:20260312T201904Z
UID:1490918-1782651600-1782662400@headwatersoutfitters.com
SUMMARY:Paddling 101 Clinic
DESCRIPTION:Be better prepared for your first or next paddling outing. \nIf you’re looking to paddle more this year\, or just getting started and interested in what canoeing and kayaking is all about\, we highly recommend you take one of our paddling 101 courses! \nThe class will cover water safety considerations\, techniques\, and skills needed to navigate class 1 moving waters; along with basic canoe and kayak paddling strokes\, trip planning considerations\, gear/equipment\, entry/exit out of your boat\, reading water\, and more. \nReservations are required: $15 Per Person \nOnce your done be sure to stop by our very own Forks Of The River Taproom and grab a cool drink and relax\, you deserve it! Food Truck on site as well.
URL:https://headwatersoutfitters.com/event/paddling-101-clinic/2026-06-28/
LOCATION:Headwaters Outfitters Outdoor Adventures\, 25 Parkway Rd\, Rosman\, NC\, 28772\, United States
CATEGORIES:Educational Presentations/Workshops,Paddling Events
ATTACH;FMTTYPE=image/jpeg:https://eadn-wc01-7181330.nxedge.io/wp-content/uploads/2023/03/HeadwatersOutfitters-cruisethenbooze-oskar-blues2.jpg
GEO:35.1435084;-82.8391879
X-APPLE-STRUCTURED-LOCATION;VALUE=URI;X-ADDRESS=Headwaters Outfitters Outdoor Adventures 25 Parkway Rd Rosman NC 28772 United States;X-APPLE-RADIUS=500;X-TITLE=25 Parkway Rd:geo:-82.8391879,35.1435084
END:VEVENT
END:VCALENDAR