BEGIN:VCALENDAR
VERSION:2.0
PRODID:-//Headwaters Outfitters | Fly Fishing, Paddling, Tubing in Rosman, North Carolina - ECPv6.15.18//NONSGML v1.0//EN
CALSCALE:GREGORIAN
METHOD:PUBLISH
X-WR-CALNAME:Headwaters Outfitters | Fly Fishing, Paddling, Tubing in Rosman, North Carolina
X-ORIGINAL-URL:https://headwatersoutfitters.com
X-WR-CALDESC:Events for Headwaters Outfitters | Fly Fishing, Paddling, Tubing in Rosman, North Carolina
REFRESH-INTERVAL;VALUE=DURATION:PT1H
X-Robots-Tag:noindex
X-PUBLISHED-TTL:PT1H
BEGIN:VTIMEZONE
TZID:America/New_York
BEGIN:DAYLIGHT
TZOFFSETFROM:-0500
TZOFFSETTO:-0400
TZNAME:EDT
DTSTART:20230312T070000
END:DAYLIGHT
BEGIN:STANDARD
TZOFFSETFROM:-0400
TZOFFSETTO:-0500
TZNAME:EST
DTSTART:20231105T060000
END:STANDARD
BEGIN:DAYLIGHT
TZOFFSETFROM:-0500
TZOFFSETTO:-0400
TZNAME:EDT
DTSTART:20240310T070000
END:DAYLIGHT
BEGIN:STANDARD
TZOFFSETFROM:-0400
TZOFFSETTO:-0500
TZNAME:EST
DTSTART:20241103T060000
END:STANDARD
BEGIN:DAYLIGHT
TZOFFSETFROM:-0500
TZOFFSETTO:-0400
TZNAME:EDT
DTSTART:20250309T070000
END:DAYLIGHT
BEGIN:STANDARD
TZOFFSETFROM:-0400
TZOFFSETTO:-0500
TZNAME:EST
DTSTART:20251102T060000
END:STANDARD
END:VTIMEZONE
BEGIN:VEVENT
DTSTART;TZID=America/New_York:20241004T100000
DTEND;TZID=America/New_York:20241004T130000
DTSTAMP:20260424T225209
CREATED:20240904T180121Z
LAST-MODIFIED:20240904T180121Z
UID:1489601-1728036000-1728046800@headwatersoutfitters.com
SUMMARY:Cruise then Booze with Oskar Blues Fall Edition
DESCRIPTION:Explore fall colors from the banks of the 3rd oldest river in the world\, with a 2-hour paddle trip down the French Broad and end at Oskar Blues Brewery for a cold craft beer\, the Chubwagon Food Truck\, and more! (drinks not included in cost). \nThis morning paddle\, is a great way to experience the wildlife\, sounds and sights of the Historic French Broad River. \nHeadwaters Outfitters will meet you at Oskar Blues Brewery at 9:30 am with your boats\, life-jackets\, and paddles. A quick 2-minute shuttle to the Pisgah Forest Access\, where our staff will assist you in getting geared up for your paddle. After our safety orientation\, you will be on your way. End your paddle at Penrose Access. A quick 10-15 minute shuttle\, will take you back to Oskar Blues and the taproom is open till 10:00 pm. Drink Responsibly! Reservations Required! \nDrinks Not Included In Cost
URL:https://headwatersoutfitters.com/event/cruise-then-booze-with-oskar-blues-fall-edition/2024-10-04/
LOCATION:Oskar Blues Brewery\, 342 Mountain Industrial Drive\, Brevard\, NC\, 28712\, United States
CATEGORIES:Paddling Events
ATTACH;FMTTYPE=image/jpeg:https://eadn-wc01-7181330.nxedge.io/wp-content/uploads/2024/09/Oskar-Blues-Fall-FH.jpg
GEO:35.2535881;-82.7067672
X-APPLE-STRUCTURED-LOCATION;VALUE=URI;X-ADDRESS=Oskar Blues Brewery 342 Mountain Industrial Drive Brevard NC 28712 United States;X-APPLE-RADIUS=500;X-TITLE=342 Mountain Industrial Drive:geo:-82.7067672,35.2535881
END:VEVENT
BEGIN:VEVENT
DTSTART;TZID=America/New_York:20241002T100000
DTEND;TZID=America/New_York:20241002T130000
DTSTAMP:20260424T225209
CREATED:20240904T175952Z
LAST-MODIFIED:20240904T175952Z
UID:1489585-1727863200-1727874000@headwatersoutfitters.com
SUMMARY:Paddle to Pints with Ecusta Brewing Fall Edition
DESCRIPTION:Join us for Paddle Then Pints with Ecusta Brewing Company for a 2-hour paddle trip down the French Broad and end at Ecusta Brewing for a cold craft beer (drinks not included in cost). Headwaters Outfitters will meet you at Ecusta Brewing at 9:30am with your boats\, life-jackets\, and paddles. A quick 5-minute shuttle to Pisgah Forest Access will be the start of your paddle. End your paddle at Penrose Access. The shuttle (about 10 min.) will take you back to Ecusta Brewing Company around 12:00pm. Drink Responsibly! Reservations Required! Drinks Not Included In Cost
URL:https://headwatersoutfitters.com/event/paddle-to-pints-with-ecusta-brewing-fall-edition/2024-10-02/
LOCATION:Ecusta Brewing Company\, 451 Ecusta Rd.\, Brevard\, NC\, 28712\, United States
CATEGORIES:Paddling Events
ATTACH;FMTTYPE=image/jpeg:https://eadn-wc01-7181330.nxedge.io/wp-content/uploads/2024/09/Ecusta-Fall-FH.jpg
END:VEVENT
BEGIN:VEVENT
DTSTART;TZID=America/New_York:20240927T153000
DTEND;TZID=America/New_York:20240927T193000
DTSTAMP:20260424T225209
CREATED:20240126T215251Z
LAST-MODIFIED:20240126T220038Z
UID:1489123-1727451000-1727465400@headwatersoutfitters.com
SUMMARY:Discovery at Dusk Guided Paddle
DESCRIPTION:On select Friday’s in May and September\, we offer our most popular guided canoe trip “Discovery at Dusk”. Discovery at Dusk is a series of guided\, evening canoe trips that balance nature observation with the quiet relaxation of a canoe outing. Each trip departs at 4 p.m. from Headwaters Outfitters and returns just after dusk. We paddle 8 miles\, plan to be on the river for approximately 3 hours. The trip fee includes your canoe\, lifejacket\, paddle\, river shuttle\, and river guide. Prior canoeing experience is helpful\, but not necessary. Reservations are required. The cost is $70 per Adult Ages 18 & over\, $65 per Youth Ages 4-17. \n“A quiet canoe ride along a river forest provides an ideal way of seeing birds” states John C. Kircher in Peterson’s Ecology of Eastern Forests field guide (1988). For those who enjoy watching wildlife\, or simply relaxing on a quiet summer evening\, the French Broad River in Transylvania County offers some of the best places in Western North Carolina to take in this recreational experience. \nWhile a few songbirds and squirrels may be seen during the day\, the prime hours for viewing the majority of the French Broad’s residents occur when the sun settles in the west\, and bustle of the day turns gradually into the calm and quiet of night. \nOn the river at dusk\, you may be startled by the warning slap of a beaver’s tail on the water. However\, if you paddle quietly you may be able to observe North America’s largest member of the rodent family for a time before it drops below the surface to find its underwater burrow entrance. The beaver’s smaller cousin\, the muskrat\, is less shy and is more likely to be viewed in its normal routine. Evidence of each can be found along the river banks where their burrows and trails meet the river’s edge. \nAbundant bird life is also found at dusk on the French Broad. Swallows dip and dive to catch insects and feed their young in the nests which have been burrowed into the dark soil of the river’s bank. Sand pipers scurry across gravel bars in search of more insects\, their niche in this river ecosystem. The green heron and belted kingfisher patrol from the air\, trees\, and shore\, looking for the frog or fish that will make their meal. \nPossibly the most colorful visitor to the river\, however\, is the American Wood duck. This tree-nesting waterfowl is known for its distressed call if flushed from its roost\, or when attempting to lure predators away from ducklings. The male Wood duck carries a distinct red head with black crest\, and reflects an array of colors from the feathers along its sides and back. The female is not as flashy\, needing to keep a low profile while caring for the offspring. Seen singly\, in pairs\, and in larger flocks\, this beautiful bird is always a highlight on an evening river.
URL:https://headwatersoutfitters.com/event/discovery-at-dusk-guided-paddle/2024-09-27/
LOCATION:Headwaters Outfitters Outdoor Adventures\, 25 Parkway Rd\, Rosman\, NC\, 28772\, United States
CATEGORIES:Paddling Events
ATTACH;FMTTYPE=image/jpeg:https://eadn-wc01-7181330.nxedge.io/wp-content/uploads/2024/01/IMG_4003-scaled.jpg
GEO:35.1435084;-82.8391879
X-APPLE-STRUCTURED-LOCATION;VALUE=URI;X-ADDRESS=Headwaters Outfitters Outdoor Adventures 25 Parkway Rd Rosman NC 28772 United States;X-APPLE-RADIUS=500;X-TITLE=25 Parkway Rd:geo:-82.8391879,35.1435084
END:VEVENT
BEGIN:VEVENT
DTSTART;TZID=America/New_York:20240921T140000
DTEND;TZID=America/New_York:20240921T193000
DTSTAMP:20260424T225209
CREATED:20240727T143238Z
LAST-MODIFIED:20240727T143238Z
UID:1489565-1726927200-1726947000@headwatersoutfitters.com
SUMMARY:Paddle to the Pork Music Festival
DESCRIPTION:Paddle to the Pork \nWhere local music\, local food\, local vendors and local brews come together for one of the coolest festivals on the French Broad River! Hosted by the Pretty Little Goat Band! \nHosted by the Pretty Little Goat Stringband\, the Paddle to the Pork Music Festival is all about celebrating life on the river. Whether you drive in\, or paddle in\, this is an authentic Western North Carolina event you don’t want to miss. \nDoors Open at 2pm. Music Starts at 3pm. Local Vendors will be on site\, along with the Beer Tent. BBQ Plates will be available to purchase on site with local pork provided by French Broad Trout Company/Grazer’s Glade Farm. \nWant to paddle-in to the festival? Park your car early at the Headwaters Campground (festival grounds) at 10:00 and be shuttled to the put-in. Enjoy a 3 hour canoe or kayak trip on the first 8 miles of the Historic French Broad River and paddle right to the festival. ***Must Register in advance as an add-on to music ticket. \nDon’t want to paddle? We have a general parking area\, where you can park and walk into festival\, or you can drive in the music venue and setup an area. **Please see rules below. \nWHAT TO BRING: \nCamp Chair or Blanket\nBug Spray\nSunscreen\nWater\nBubbles\, Frisbees\, Festival Fun\nPhoto ID for Beer Tent\nCash for Beer Tent (it will be the quickest way!)\nA FEW RULES TO FOLLOW: \nNo outside alcohol allowed on site\nNo pop up tents or shade attachments from vehicles allowed in center of field. If you wish to setup tents or shade structures please let us know when you arrive. We will park you in a place where you will not block others.\nDogs must be on leashes at all times\, no exceptions. You must clean up after pets so please plan accordingly and bring poop bags.\nKids under 12 FREE.\nKids under 18 are not allowed down by river without adult supervision\nVehicles are not allowed to leave main venue area early. If you plan to leave early\, you must park in general parking area and walk into venue. \nPURCHASE TICKETS HERE
URL:https://headwatersoutfitters.com/event/paddle-to-the-pork-music-festival/
LOCATION:Headwaters Outfitters Campground\, 1017 Green Road\, Brevard\, NC\, 28712\, United States
CATEGORIES:Paddling Events,Taproom
ATTACH;FMTTYPE=image/jpeg:https://eadn-wc01-7181330.nxedge.io/wp-content/uploads/2024/07/P2P-TV-1.jpg
END:VEVENT
BEGIN:VEVENT
DTSTART;TZID=America/New_York:20240831T090000
DTEND;TZID=America/New_York:20240831T180000
DTSTAMP:20260424T225209
CREATED:20240727T142729Z
LAST-MODIFIED:20240727T142729Z
UID:1489561-1725094800-1725127200@headwatersoutfitters.com
SUMMARY:Pirate Day and Mermaid Lagoon
DESCRIPTION:Ahoy\, mateys! Mark your calendars\, Pirate Day 2024 – Saturday August 31st \nGet ready for a swashbuckling adventure with real river mermaids joining our 3-hour paddling escapade! From a kids’ corner bursting with activities to a fierce costume contest\, Mama Bears Food Truck\, and the electrifying performance by Diamond Dave & The Queen Of Hearts on stage\, it’s going to be a day to remember! Head to Penny Lane Exchange in downtown Brevard for your costume needs.  Use Promo Code MERMAIDLAGOON for $5.00 off your paddling or tubing adventure that day.  Get your picture taken with real Blue Ridge Mountain Mermaids on our Paddling Trip.  BEWARE- Pirates are on the river! \n \n 
URL:https://headwatersoutfitters.com/event/pirate-day-and-mermaid-lagoon/
LOCATION:Headwaters Outfitters Outdoor Adventures\, 25 Parkway Rd\, Rosman\, NC\, 28772\, United States
CATEGORIES:Paddling Events,Taproom
ATTACH;FMTTYPE=image/jpeg:https://eadn-wc01-7181330.nxedge.io/wp-content/uploads/2024/07/Pirate-24-scaled.jpg
GEO:35.1435084;-82.8391879
X-APPLE-STRUCTURED-LOCATION;VALUE=URI;X-ADDRESS=Headwaters Outfitters Outdoor Adventures 25 Parkway Rd Rosman NC 28772 United States;X-APPLE-RADIUS=500;X-TITLE=25 Parkway Rd:geo:-82.8391879,35.1435084
END:VEVENT
BEGIN:VEVENT
DTSTART;TZID=America/New_York:20240830T163000
DTEND;TZID=America/New_York:20240830T193000
DTSTAMP:20260424T225209
CREATED:20240126T204134Z
LAST-MODIFIED:20240525T153156Z
UID:1489064-1725035400-1725046200@headwatersoutfitters.com
SUMMARY:Cruise Then Booze with Oskar Blues Brewery
DESCRIPTION:Start your summer evenings off with a 2-hour paddle trip down the French Broad River and end at Oskar Blues Brewery for a cold craft beer\, the Chubwagon Food Truck\, and more! \nThis dusk paddle is a great way to experience the wildlife\, sounds\, and sights of the Historic French Broad River. Headwaters Outfitters will meet you at Oskar Blues Brewery at 4:30 pm with your reserved boats\, life-jackets\, and paddles. Aboard our bus for a quick 2-minute shuttle to the Pisgah Forest Access; where our staff will assist you in getting geared up for your paddle. After our brief safety orientation\, you will be on your way down river paddling 5 miles ending at the Penrose Access. A quick 10 minute shuttle will take you back to Oskar Blues and the taproom is open till 10:00 pm. Reservations Required. Drinks Not Included In Cost. Drink Responsibly!
URL:https://headwatersoutfitters.com/event/cruise-then-booze-with-oskar-blues-brewery-2/2024-08-30/
LOCATION:Oskar Blues Brewery North Carolina\, 342 Mountain Industrial Dr\, Brevard\, NC\, 28712\, United States
CATEGORIES:Paddling Events
ATTACH;FMTTYPE=image/png:https://eadn-wc01-7181330.nxedge.io/wp-content/uploads/2024/01/Oskar-Blues.png
GEO:35.2535881;-82.7067671
X-APPLE-STRUCTURED-LOCATION;VALUE=URI;X-ADDRESS=Oskar Blues Brewery North Carolina 342 Mountain Industrial Dr Brevard NC 28712 United States;X-APPLE-RADIUS=500;X-TITLE=342 Mountain Industrial Dr:geo:-82.7067671,35.2535881
END:VEVENT
BEGIN:VEVENT
DTSTART;TZID=America/New_York:20240828T093000
DTEND;TZID=America/New_York:20240828T123000
DTSTAMP:20260424T225209
CREATED:20240126T210847Z
LAST-MODIFIED:20240313T151148Z
UID:1489080-1724837400-1724848200@headwatersoutfitters.com
SUMMARY:Paddle then Pints With Ecusta Brewing Company
DESCRIPTION:Join us for Paddle Then Pints with Ecusta Brewing Company for a 2-hour paddle trip down the French Broad and end at Ecusta Brewing for a cold craft beer (drinks not included in cost). Headwaters Outfitters will meet you at Ecusta Brewing at 9:30am with your reserved boats\, life-jackets\, and paddles. A quick 5-minute shuttle to Pisgah Forest Access will be the start of your paddle. End your paddle at Penrose Access. The shuttle (about 10 min.) will take you back to Ecusta Brewing Company around 12:00 pm. Drink Responsibly! Reservations Required! Drinks Not Included In Cost.
URL:https://headwatersoutfitters.com/event/paddle-then-pints-with-ecusta-brewing-company/2024-08-28/
LOCATION:Ecusta Brewing Company\, 451 Ecusta Rd.\, Brevard\, NC\, 28712\, United States
CATEGORIES:Paddling Events
ATTACH;FMTTYPE=image/png:https://eadn-wc01-7181330.nxedge.io/wp-content/uploads/2024/01/Ecusta.png
END:VEVENT
BEGIN:VEVENT
DTSTART;TZID=America/New_York:20240818T140000
DTEND;TZID=America/New_York:20240818T180000
DTSTAMP:20260424T225209
CREATED:20240731T200328Z
LAST-MODIFIED:20240731T200328Z
UID:1489577-1723989600-1724004000@headwatersoutfitters.com
SUMMARY:French Broad Watershed Spelling Bee & Trivia
DESCRIPTION:Join us for a buzzing good time at our French Broad watershed-themed adult Spelling Bee & Trivia fundraiser! Donations will support Rosman and T.C. Henderson Elementary PTO.\n-Registration begins at 2:00 pm (cash only please)-$15 per person per event or $20 for both events\n-Spelling Bee will start at 2:30 pm and will consist of single elimination rounds until a single winner remains. Contestants will have one minute to correctly spell a word randomly selected for them by the judge. The judge will have the final ruling on spelling.\n-Trivia will be teams of 4-5 people and you can choose your own teams. Consists of four rounds with a tiebreaker if needed. Each round will consist of five questions and cell phones will be prohibited from the table.\n-The winner of the spelling bee will be winning a Turtlebox outdoor speaker (valued at $400). Prizes for trivia to be announced.\nOther things to know:\n-Levi’s Lunchbox food truck will be on site.-Wehrloom Honey will be offering samples of their locally sourced mead (contains alcohol).-Participants must be 21+ but all ages are allowed on site.-Spelling bee will be hosted by Ashton Williams.-Trivia will be hosted by Hedgie Bartol.-You can register your *unwilling* friend and have them participate against their will.-Our PTOs are in need of money to support teacher needs at both of our elementary schools. Please consider donating what you can and come out for a fun time!
URL:https://headwatersoutfitters.com/event/french-broad-watershed-spelling-bee-trivia/
LOCATION:Forks of the River Taproom\, 25 Parkway Road\, Rosman\, NC\, 28772\, United States
CATEGORIES:Taproom
ATTACH;FMTTYPE=image/png:https://eadn-wc01-7181330.nxedge.io/wp-content/uploads/2024/07/Trivia.png
GEO:35.1435084;-82.8391879
X-APPLE-STRUCTURED-LOCATION;VALUE=URI;X-ADDRESS=Forks of the River Taproom 25 Parkway Road Rosman NC 28772 United States;X-APPLE-RADIUS=500;X-TITLE=25 Parkway Road:geo:-82.8391879,35.1435084
END:VEVENT
BEGIN:VEVENT
DTSTART;TZID=America/New_York:20240531T160000
DTEND;TZID=America/New_York:20240531T190000
DTSTAMP:20260424T225209
CREATED:20240126T215650Z
LAST-MODIFIED:20240126T220308Z
UID:1489129-1717171200-1717182000@headwatersoutfitters.com
SUMMARY:Discovery at Dusk Guided Paddle
DESCRIPTION:On select Friday’s in May and September\, we offer our most popular guided canoe trip “Discovery at Dusk”. Discovery at Dusk is a series of guided\, evening canoe trips that balance nature observation with the quiet relaxation of a canoe outing. Each trip departs at 4 p.m. from Headwaters Outfitters and returns just after dusk. We paddle 8 miles\, plan to be on the river for approximately 3 hours. The trip fee includes your canoe\, lifejacket\, paddle\, river shuttle\, and river guide. Prior canoeing experience is helpful\, but not necessary. Reservations are required. The cost is $70 per Adult Ages 18 & over\, $65 per Youth Ages 4-17. \n“A quiet canoe ride along a river forest provides an ideal way of seeing birds” states John C. Kircher in Peterson’s Ecology of Eastern Forests field guide (1988). For those who enjoy watching wildlife\, or simply relaxing on a quiet summer evening\, the French Broad River in Transylvania County offers some of the best places in Western North Carolina to take in this recreational experience. \nWhile a few songbirds and squirrels may be seen during the day\, the prime hours for viewing the majority of the French Broad’s residents occur when the sun settles in the west\, and bustle of the day turns gradually into the calm and quiet of night. \nOn the river at dusk\, you may be startled by the warning slap of a beaver’s tail on the water. However\, if you paddle quietly you may be able to observe North America’s largest member of the rodent family for a time before it drops below the surface to find its underwater burrow entrance. The beaver’s smaller cousin\, the muskrat\, is less shy and is more likely to be viewed in its normal routine. Evidence of each can be found along the river banks where their burrows and trails meet the river’s edge. \nAbundant bird life is also found at dusk on the French Broad. Swallows dip and dive to catch insects and feed their young in the nests which have been burrowed into the dark soil of the river’s bank. Sand pipers scurry across gravel bars in search of more insects\, their niche in this river ecosystem. The green heron and belted kingfisher patrol from the air\, trees\, and shore\, looking for the frog or fish that will make their meal. \nPossibly the most colorful visitor to the river\, however\, is the American Wood duck. This tree-nesting waterfowl is known for its distressed call if flushed from its roost\, or when attempting to lure predators away from ducklings. The male Wood duck carries a distinct red head with black crest\, and reflects an array of colors from the feathers along its sides and back. The female is not as flashy\, needing to keep a low profile while caring for the offspring. Seen singly\, in pairs\, and in larger flocks\, this beautiful bird is always a highlight on an evening river.
URL:https://headwatersoutfitters.com/event/discovery-at-dusk-guided-paddle-3/2024-05-31/
LOCATION:Headwaters Outfitters Outdoor Adventures\, 25 Parkway Rd\, Rosman\, NC\, 28772\, United States
CATEGORIES:Paddling Events
ATTACH;FMTTYPE=image/jpeg:https://eadn-wc01-7181330.nxedge.io/wp-content/uploads/2024/01/IMG_4003-scaled.jpg
GEO:35.1435084;-82.8391879
X-APPLE-STRUCTURED-LOCATION;VALUE=URI;X-ADDRESS=Headwaters Outfitters Outdoor Adventures 25 Parkway Rd Rosman NC 28772 United States;X-APPLE-RADIUS=500;X-TITLE=25 Parkway Rd:geo:-82.8391879,35.1435084
END:VEVENT
BEGIN:VEVENT
DTSTART;TZID=America/New_York:20240511T093000
DTEND;TZID=America/New_York:20240511T133000
DTSTAMP:20260424T225209
CREATED:20240126T212148Z
LAST-MODIFIED:20240126T212148Z
UID:1489088-1715419800-1715434200@headwatersoutfitters.com
SUMMARY:Signs of Spring Guided Paddling Trip
DESCRIPTION:We offer our “Signs of Spring” a series of guided canoe trips on selected Saturdays from April through June. This guided canoe trip balances nature observation with the quiet relaxation of a morning canoe outing. Departing at 10 a.m. (you must arrive by 9:30 am). from Headwaters\, each canoe trip includes all paddling gear\, river shuttle\, and guide service. Snacks and drinks are available for sale at the shop. Prior canoeing experience is helpful\, but not necessary. Reservations are required and are secured with a 50% deposit. The cost is $70 per Adult Ages 18 & over\, $65 per Youth Ages 4-17. To confirm a reservation\, or for more information\, call Headwaters Outfitters at (828) 877-3106. \nMuch to See!\nLittle Sweet Betsy (Trillium cuneatum) is just one species found along the French Broad River during Headwaters’ Signs of Spring guided canoe trip. There are over 2\,500 species of wildflowers and flowering shrubs in the southern Appalachians\, and many of these can be found somewhere along the French Broad River watershed. Thanks to a variety of microclimates and abundant rainfall\, the French Broad hosts a beautiful array of spring flowers. The “Signs of Spring” guided trip takes full advantage of this display. \nAlthough you can certainly see spring wildflower displays while hiking\, a canoe-eye’s view offers several advantages for experiencing the new seasons’ first blooms. The banks of the French Broad offer some of the richest soils for plant growth\, courtesy of regular floods that deposit nitrogen-rich sediments onto the floodplain. Abundant moisture along the river’s banks also provides ideal habitat for riparian-loving species such as orange jewelweed (seen in June)\, crested dwarf iris (May)\, bluets (April)\, purple phacelia (April-May)\, monkeyflower (June)\, and bee balm (June-Sept.) \nFlowers may be the chief draw of the “Signs of Spring” tour\, but April\, in particular\, is prime time for birders interested in catching sight of spring migrants passing through. You may see a vireos\, warblers\, tanagers and flycatchers. Sometimes\, being on the river gives you a better perspective to spot birds with binoculars or a camera. Large flowering bellwort is found along the French Broad in limestone-rich pockets.Wood ducks breed along the banks\, and can often be seen leading a caravan of fuzzy young through streamside deadfall. Louisiana waterthrush\, Acadian flycatchers\, belted kingfishers and great blue herons are regularly spotted by canoeists on the French Broad\, as well. Occasionally\, an osprey or bald eagle will perch on a dead branch above the river\, scanning the water below for vulnerable quarry. \nRiver otter have really made a big comeback since the 1980s\, when they were reintroduced to the Smokies. Beaver\, fox\, long-tailed weasels\, mink and skunk can also be spotted along the French Broad. \nOnce you get back be sure to stop by our very own family friendly\, Forks Of The River Taproom and get a much deserved beverage.
URL:https://headwatersoutfitters.com/event/signs-of-spring-guided-paddling-trip/2024-05-11/
LOCATION:Headwaters Outfitters Outdoor Adventures\, 25 Parkway Rd\, Rosman\, NC\, 28772\, United States
CATEGORIES:Paddling Events
ATTACH;FMTTYPE=image/jpeg:https://eadn-wc01-7181330.nxedge.io/wp-content/uploads/2024/01/signs-of-spring-image.jpg
GEO:35.1435084;-82.8391879
X-APPLE-STRUCTURED-LOCATION;VALUE=URI;X-ADDRESS=Headwaters Outfitters Outdoor Adventures 25 Parkway Rd Rosman NC 28772 United States;X-APPLE-RADIUS=500;X-TITLE=25 Parkway Rd:geo:-82.8391879,35.1435084
END:VEVENT
BEGIN:VEVENT
DTSTART;TZID=America/New_York:20240511T090000
DTEND;TZID=America/New_York:20240512T130000
DTSTAMP:20260424T225209
CREATED:20240424T164618Z
LAST-MODIFIED:20240424T164815Z
UID:1489499-1715418000-1715518800@headwatersoutfitters.com
SUMMARY:Free Paddling Trips For Moms
DESCRIPTION:Celebrate Mother’s Day weekend with a special treat just for moms! Enjoy a relaxing paddling trip on May 11th and 12th completely free of charge for all moms. Simply use the promo code provided to book your trip online at your convenience\, or feel free to give our shop a call to secure your spot. Let’s make this Mother’s Day one to remember with some well-deserved outdoor adventure on the water! \nPROMO CODE: momspaddlefree \n 
URL:https://headwatersoutfitters.com/event/free-paddling-trips-for-moms/
LOCATION:Headwaters Outfitters Outdoor Adventures\, 25 Parkway Rd\, Rosman\, NC\, 28772\, United States
ATTACH;FMTTYPE=image/png:https://eadn-wc01-7181330.nxedge.io/wp-content/uploads/2024/04/Screen-Shot-2024-04-24-at-12.45.28-PM.png
GEO:35.1435084;-82.8391879
X-APPLE-STRUCTURED-LOCATION;VALUE=URI;X-ADDRESS=Headwaters Outfitters Outdoor Adventures 25 Parkway Rd Rosman NC 28772 United States;X-APPLE-RADIUS=500;X-TITLE=25 Parkway Rd:geo:-82.8391879,35.1435084
END:VEVENT
BEGIN:VEVENT
DTSTART;TZID=America/New_York:20240425T093000
DTEND;TZID=America/New_York:20240425T160000
DTSTAMP:20260424T225209
CREATED:20240126T212706Z
LAST-MODIFIED:20240126T213352Z
UID:1489095-1714037400-1714060800@headwatersoutfitters.com
SUMMARY:Guided Bear Lake Kayaking Trip
DESCRIPTION:Bear Lake\, also referred to as Bear Creek Lake\, covers 500 acres and features 13 miles of shoreline. Bear Lake was created in the 1950s by damming the east fork of the Tuckasegee River to provide hydroelectric power for the area. Today\, it is considered one of the cleanest lakes in Western North Carolina. Bear Lake is regularly stocked with fish by the North Carolina Wildlife Commission. \nThe lake provides the perfect sea kayaking day trip for all paddling skill levels. Enjoy a shore lunch surrounded by the mountains of the Pisgah and Nantahala National Forest. In the warmer months\, the lake sees more motor boat action\, which is why we only offer this great trip during the spring and fall months! \nLed by Headwaters Outfitters Paddling Guide Danielle Matthews Ennis\, enjoy a island shore lunch surrounded by the mountains of the Pisgah and Nantahala National Forest. \nThe trip is an out-and-back (5 miles total) to the cove of Sols Creek Waterfall\, with an optional 15 min. Intermediate Hike to the base of the waterfall. \nReservations are required. There is a minimum of 3 and maximum of 8 guest per trip. \nShuttle: Average 45 minutes one way. On the water around 10:30pm.\nDepart from Headwaters at 9:15am and return by 3:30-4:00pm. \nLunch is provided. Please let us know if you have any dietary needs or restrictions upon booking. \nWhat to bring:\nDress in layers\, with quick dry material preferred. Rain/ wind outer shell is good. Light hiking shoes along with a water shoe/ sandal\, some folks maybe able to hike and boat in one style. Daypack with sunscreen\, water\, light snacks\, personal needs are recommended.\nSunglasses and hats are very helpful.\nCameras\, binoculars and any guide books\, (plants\, birds etc.) \nCost is $85.00 Per person. \nOnce you get back from your adventure be sure to stop by our very own family friendly Forks Of The River Taproom and grab a drink and relax. You deserve it.
URL:https://headwatersoutfitters.com/event/guided-bear-lake-kayaking-trip/2024-04-25/
LOCATION:Headwaters Outfitters Outdoor Adventures\, 25 Parkway Rd\, Rosman\, NC\, 28772\, United States
CATEGORIES:Paddling Events
ATTACH;FMTTYPE=image/jpeg:https://eadn-wc01-7181330.nxedge.io/wp-content/uploads/2024/01/Bear-Lake.jpg
GEO:35.1435084;-82.8391879
X-APPLE-STRUCTURED-LOCATION;VALUE=URI;X-ADDRESS=Headwaters Outfitters Outdoor Adventures 25 Parkway Rd Rosman NC 28772 United States;X-APPLE-RADIUS=500;X-TITLE=25 Parkway Rd:geo:-82.8391879,35.1435084
END:VEVENT
END:VCALENDAR