BEGIN:VCALENDAR
VERSION:2.0
PRODID:-//Headwaters Outfitters | Fly Fishing, Paddling, Tubing in Rosman, North Carolina - ECPv6.15.18//NONSGML v1.0//EN
CALSCALE:GREGORIAN
METHOD:PUBLISH
X-WR-CALNAME:Headwaters Outfitters | Fly Fishing, Paddling, Tubing in Rosman, North Carolina
X-ORIGINAL-URL:https://headwatersoutfitters.com
X-WR-CALDESC:Events for Headwaters Outfitters | Fly Fishing, Paddling, Tubing in Rosman, North Carolina
REFRESH-INTERVAL;VALUE=DURATION:PT1H
X-Robots-Tag:noindex
X-PUBLISHED-TTL:PT1H
BEGIN:VTIMEZONE
TZID:America/New_York
BEGIN:DAYLIGHT
TZOFFSETFROM:-0500
TZOFFSETTO:-0400
TZNAME:EDT
DTSTART:20230312T070000
END:DAYLIGHT
BEGIN:STANDARD
TZOFFSETFROM:-0400
TZOFFSETTO:-0500
TZNAME:EST
DTSTART:20231105T060000
END:STANDARD
BEGIN:DAYLIGHT
TZOFFSETFROM:-0500
TZOFFSETTO:-0400
TZNAME:EDT
DTSTART:20240310T070000
END:DAYLIGHT
BEGIN:STANDARD
TZOFFSETFROM:-0400
TZOFFSETTO:-0500
TZNAME:EST
DTSTART:20241103T060000
END:STANDARD
BEGIN:DAYLIGHT
TZOFFSETFROM:-0500
TZOFFSETTO:-0400
TZNAME:EDT
DTSTART:20250309T070000
END:DAYLIGHT
BEGIN:STANDARD
TZOFFSETFROM:-0400
TZOFFSETTO:-0500
TZNAME:EST
DTSTART:20251102T060000
END:STANDARD
END:VTIMEZONE
BEGIN:VEVENT
DTSTART;TZID=America/New_York:20240807T090000
DTEND;TZID=America/New_York:20240807T150000
DTSTAMP:20260425T000725
CREATED:20240327T210517Z
LAST-MODIFIED:20240327T210518Z
UID:1489452-1723021200-1723042800@headwatersoutfitters.com
SUMMARY:Fork's Foundation Class
DESCRIPTION:Welcome to the Fork’s Foundation Class! This course is designed to lay a strong foundation in fly fishing\,  for 12-15 year olds!
URL:https://headwatersoutfitters.com/event/forks-foundation-class-5/
LOCATION:Headwaters Outfitters\, 25 Parkway Road\, Rosman\, NC\, 28772\, United States
ATTACH;FMTTYPE=image/jpeg:https://eadn-wc01-7181330.nxedge.io/wp-content/uploads/2024/03/105805d7e88225f37c67500b67aaf3b5-1.jpg
END:VEVENT
BEGIN:VEVENT
DTSTART;TZID=America/New_York:20240602T090000
DTEND;TZID=America/New_York:20240602T200000
DTSTAMP:20260425T000725
CREATED:20240510T151425Z
LAST-MODIFIED:20240510T151425Z
UID:1489509-1717318800-1717358400@headwatersoutfitters.com
SUMMARY:Gilligan's Island Day - Season Kickoff Luau!
DESCRIPTION:Have you ever swashbuckled your way through our yearly Pirate Day bash? Well\, this time we’re shaking things up with a tropical Gilligan’s Island meets Luau extravaganza to kick off the season! \nDive into a three-hour paddle adventure or go tubing! Sail over to the taproom for a rockin’ party featuring luau games and scrumptious bites from the Local Harvester food truck! \nDress up as your favorite Gilligan’s Island character or island beachwear and join us for this exciting event! \nReserve your spot for paddling or tubing on our website: https://headwatersoutfitters.com/ or give the shop a call.
URL:https://headwatersoutfitters.com/event/gilligans-island-day-season-kickoff-luau/
LOCATION:Forks of the River Taproom\, 25 Parkway Road\, Rosman\, NC\, 28772\, United States
ATTACH;FMTTYPE=image/jpeg:https://eadn-wc01-7181330.nxedge.io/wp-content/uploads/2024/05/IMG_A84A7B2C5290-1.jpeg
GEO:35.1435084;-82.8391879
X-APPLE-STRUCTURED-LOCATION;VALUE=URI;X-ADDRESS=Forks of the River Taproom 25 Parkway Road Rosman NC 28772 United States;X-APPLE-RADIUS=500;X-TITLE=25 Parkway Road:geo:-82.8391879,35.1435084
END:VEVENT
END:VCALENDAR