BEGIN:VCALENDAR
VERSION:2.0
PRODID:-//Headwaters Outfitters | Fly Fishing, Paddling, Tubing in Rosman, North Carolina - ECPv6.15.18//NONSGML v1.0//EN
CALSCALE:GREGORIAN
METHOD:PUBLISH
X-WR-CALNAME:Headwaters Outfitters | Fly Fishing, Paddling, Tubing in Rosman, North Carolina
X-ORIGINAL-URL:https://headwatersoutfitters.com
X-WR-CALDESC:Events for Headwaters Outfitters | Fly Fishing, Paddling, Tubing in Rosman, North Carolina
REFRESH-INTERVAL;VALUE=DURATION:PT1H
X-Robots-Tag:noindex
X-PUBLISHED-TTL:PT1H
BEGIN:VTIMEZONE
TZID:America/New_York
BEGIN:DAYLIGHT
TZOFFSETFROM:-0500
TZOFFSETTO:-0400
TZNAME:EDT
DTSTART:20250309T070000
END:DAYLIGHT
BEGIN:STANDARD
TZOFFSETFROM:-0400
TZOFFSETTO:-0500
TZNAME:EST
DTSTART:20251102T060000
END:STANDARD
BEGIN:DAYLIGHT
TZOFFSETFROM:-0500
TZOFFSETTO:-0400
TZNAME:EDT
DTSTART:20260308T070000
END:DAYLIGHT
BEGIN:STANDARD
TZOFFSETFROM:-0400
TZOFFSETTO:-0500
TZNAME:EST
DTSTART:20261101T060000
END:STANDARD
BEGIN:DAYLIGHT
TZOFFSETFROM:-0500
TZOFFSETTO:-0400
TZNAME:EDT
DTSTART:20270314T070000
END:DAYLIGHT
BEGIN:STANDARD
TZOFFSETFROM:-0400
TZOFFSETTO:-0500
TZNAME:EST
DTSTART:20271107T060000
END:STANDARD
END:VTIMEZONE
BEGIN:VEVENT
DTSTART;TZID=America/New_York:20260418T083000
DTEND;TZID=America/New_York:20260419T163000
DTSTAMP:20260424T151721
CREATED:20260114T160028Z
LAST-MODIFIED:20260403T203326Z
UID:1490748-1776501000-1776616200@headwatersoutfitters.com
SUMMARY:Wilderness First Aid & CPR
DESCRIPTION:Led By Oxbow River Snorkeling\nThe prices for the class are as follows:$275 for WFA & CPR$210 for WFA only (if a person is already CPR certified)$75 for CPR only.\n2 Day Course: Saturday\, April 18th & Sunday\, April 19th\nTimes:Saturday 8:30am-10:30pm CPR\nSaturday 10:30am-4:30pm Wilderness First Aid\nSunday 8:30am-4:30pm Wilderness First Aid\nYou must attend all class times to earn certification.\nImportant: CPR is a prerequisite for the class- if you are not taking CPR/AED with us\, you must present proof of certification the day of class to receive your WFA certification.\nThe course book for American Red Cross Wilderness and Remote First Aid along with the pocket card is included with the class price and you will receive your book upon arrival to class. ​\nThose 14 years old and up are welcome to join our class\, all participants will be asked to sign a release form and bring the day of class or email the signed form to christie@oxbowrivernorkeling.com\nWhat to Bring : Upon sign up\, you will be emailed a gear list along with other pertinent information. Please dress in layers and be prepared for weather as we will be going outside for scenarios rain or shine.\nCourse Description : This course will provide you with a foundation of first aid knowledge and skills to be able to respond to emergencies and give care in areas and situations that do not have immediate medical services (EMS)\, such as wilderness areas or remote environments. You will develop leadership skills\, learn to work as a team\, and learn to prevent\, plan for and respond to emergencies. At the end of the course you will be certified in American Red Cross Wilderness and Remote First Aid for two years.\nTopics Covered :-first aid kits-primary and secondary assessment-evacuation and calling for help-shock and heart attack-chest injury-head and neck injury-allergy and anaphylaxis-wounds and bleeding-bone and joint injury-burns-hypothermia and heat related illness-lightening and drowning\nReasons to Take Course : This certification is great for anyone who hikes/backpacks\, paddles\, camps\, hunts\, mountain bikes\, for those who work at summer camps\, for someone going into the medical field\, for someone who is planning on going on a medical mission trip\, or anyone who wants to be able to help when EMS is delayed due to circumstances or distance.
URL:https://headwatersoutfitters.com/event/wilderness-first-aid-cpr-2/
LOCATION:Headwaters Outfitters Outdoor Adventures\, 25 Parkway Rd\, Rosman\, NC\, 28772\, United States
CATEGORIES:Educational Presentations/Workshops
ATTACH;FMTTYPE=image/jpeg:https://eadn-wc01-7181330.nxedge.io/wp-content/uploads/2026/01/514276751_10163072782074087_5949276266047076505_n-1.jpg
GEO:35.1435084;-82.8391879
X-APPLE-STRUCTURED-LOCATION;VALUE=URI;X-ADDRESS=Headwaters Outfitters Outdoor Adventures 25 Parkway Rd Rosman NC 28772 United States;X-APPLE-RADIUS=500;X-TITLE=25 Parkway Rd:geo:-82.8391879,35.1435084
END:VEVENT
BEGIN:VEVENT
DTSTART;TZID=America/New_York:20260221T083000
DTEND;TZID=America/New_York:20260222T163000
DTSTAMP:20260424T151721
CREATED:20260114T155817Z
LAST-MODIFIED:20260114T155817Z
UID:1490745-1771662600-1771777800@headwatersoutfitters.com
SUMMARY:Wilderness First Aid & CPR
DESCRIPTION:Led By Oxbow River Snorkeling\n\nThe prices for the class are as follows:$275 for WFA & CPR$210 for WFA only (if a person is already CPR certified)$75 for CPR only.\n\n2 Day Course: Feb. 21st & Feb. 22nd\n\nTimes:Saturday 8:30am-10:30pm CPR\nSaturday 10:30am-4:30pm Wilderness First Aid\nSunday 8:30am-4:30pm Wilderness First Aid\n\nYou must attend all class times to earn certification.\n\nImportant: CPR is a prerequisite for the class- if you are not taking CPR/AED with us\, you must present proof of certification the day of class to receive your WFA certification.\nThe course book for American Red Cross Wilderness and Remote First Aid along with the pocket card is included with the class price and you will receive your book upon arrival to class. ​\nThose 14 years old and up are welcome to join our class\, all participants will be asked to sign a release form and bring the day of class or email the signed form to christie@oxbowrivernorkeling.com\n\nWhat to Bring : Upon sign up\, you will be emailed a gear list along with other pertinent information. Please dress in layers and be prepared for weather as we will be going outside for scenarios rain or shine.\n\nCourse Description : This course will provide you with a foundation of first aid knowledge and skills to be able to respond to emergencies and give care in areas and situations that do not have immediate medical services (EMS)\, such as wilderness areas or remote environments. You will develop leadership skills\, learn to work as a team\, and learn to prevent\, plan for and respond to emergencies. At the end of the course you will be certified in American Red Cross Wilderness and Remote First Aid for two years.\n\nTopics Covered :-first aid kits-primary and secondary assessment-evacuation and calling for help-shock and heart attack-chest injury-head and neck injury-allergy and anaphylaxis-wounds and bleeding-bone and joint injury-burns-hypothermia and heat related illness-lightening and drowning\n\nReasons to Take Course : This certification is great for anyone who hikes/backpacks\, paddles\, camps\, hunts\, mountain bikes\, for those who work at summer camps\, for someone going into the medical field\, for someone who is planning on going on a medical mission trip\, or anyone who wants to be able to help when EMS is delayed due to circumstances or distance.
URL:https://headwatersoutfitters.com/event/wilderness-first-aid-cpr/
LOCATION:Headwaters Outfitters Outdoor Adventures\, 25 Parkway Rd\, Rosman\, NC\, 28772\, United States
CATEGORIES:Educational Presentations/Workshops
ATTACH;FMTTYPE=image/jpeg:https://eadn-wc01-7181330.nxedge.io/wp-content/uploads/2026/01/514276751_10163072782074087_5949276266047076505_n.jpg
GEO:35.1435084;-82.8391879
X-APPLE-STRUCTURED-LOCATION;VALUE=URI;X-ADDRESS=Headwaters Outfitters Outdoor Adventures 25 Parkway Rd Rosman NC 28772 United States;X-APPLE-RADIUS=500;X-TITLE=25 Parkway Rd:geo:-82.8391879,35.1435084
END:VEVENT
END:VCALENDAR