BEGIN:VCALENDAR
VERSION:2.0
PRODID:-//Headwaters Outfitters | Fly Fishing, Paddling, Tubing in Rosman, North Carolina - ECPv6.15.18//NONSGML v1.0//EN
CALSCALE:GREGORIAN
METHOD:PUBLISH
X-WR-CALNAME:Headwaters Outfitters | Fly Fishing, Paddling, Tubing in Rosman, North Carolina
X-ORIGINAL-URL:https://headwatersoutfitters.com
X-WR-CALDESC:Events for Headwaters Outfitters | Fly Fishing, Paddling, Tubing in Rosman, North Carolina
REFRESH-INTERVAL;VALUE=DURATION:PT1H
X-Robots-Tag:noindex
X-PUBLISHED-TTL:PT1H
BEGIN:VTIMEZONE
TZID:America/New_York
BEGIN:DAYLIGHT
TZOFFSETFROM:-0500
TZOFFSETTO:-0400
TZNAME:EDT
DTSTART:20240310T070000
END:DAYLIGHT
BEGIN:STANDARD
TZOFFSETFROM:-0400
TZOFFSETTO:-0500
TZNAME:EST
DTSTART:20241103T060000
END:STANDARD
BEGIN:DAYLIGHT
TZOFFSETFROM:-0500
TZOFFSETTO:-0400
TZNAME:EDT
DTSTART:20250309T070000
END:DAYLIGHT
BEGIN:STANDARD
TZOFFSETFROM:-0400
TZOFFSETTO:-0500
TZNAME:EST
DTSTART:20251102T060000
END:STANDARD
BEGIN:DAYLIGHT
TZOFFSETFROM:-0500
TZOFFSETTO:-0400
TZNAME:EDT
DTSTART:20260308T070000
END:DAYLIGHT
BEGIN:STANDARD
TZOFFSETFROM:-0400
TZOFFSETTO:-0500
TZNAME:EST
DTSTART:20261101T060000
END:STANDARD
END:VTIMEZONE
BEGIN:VEVENT
DTSTART;TZID=America/New_York:20250510T100000
DTEND;TZID=America/New_York:20250510T130000
DTSTAMP:20260424T214339
CREATED:20250430T152452Z
LAST-MODIFIED:20250430T152803Z
UID:1490249-1746871200-1746882000@headwatersoutfitters.com
SUMMARY:Heritage Day Paddle on the French Broad
DESCRIPTION:Experience the history of the French Broad and surrounding areas on this relaxing guided paddle! \n\n\nActivity details\n\n\nOur group will meet at 10am at Champion Park and plan to get on the water at 10:30am. Advanced reservations required\, please pre-select what type of boat you would like to paddle (kayak\, canoe\, tandem kayak). This guided paddle down the French Broad will be a relaxing way to take in the beautiful scenery while learning about the rich history of the area. Please come dressed appropriately for the weather that day as we will take off rain or shine. Our shuttle will be waiting to pick us up at the take out and shuttle us back to Champion Park where you can enjoy the Heritage Day celebrations\, vendors and community!\n\n\n\n\nWhat’s included\n\nIncluded in the price of your ticket is a boat of your choosing (canoe\, kayak\, or tandem kayak)\, paddle\, PFD life jacket\, and shuttle service. This trip also includes a guide who will lead your trip on the water and share the history of the area. \n\n\n\nWhat’s not included\n\n\nDry bags are not included (we do have some available for purchase at our shop)\n\n*Food and beverages are not included \n*Gratuity for your guide and/or shuttle drivers if you feel so inclined 🙂 \n\n\n\nItinerary\n\n10am – 10:30am Check in with our River Host at Champion Park\, make sure all waivers are signed \n10:30am depart Champion Park and paddle down the French Broad River \n12pm-12:30pm Take Out and be shuttled back to Champion Park \n12:30pm Enjoy the Heritage Day festivities! \n\n\n\nHighlights\n\nThis is a great opportunity to experience the beautiful French Broad River with an experienced guide who can share about the rich history of the area. \n\n——————————— \n\n\nAdditional information:\n\n\nCheck-in details\n\n\n\n\n\nPlease arrive around 10am to check in and prepare to get on the water at 10:30am. Make sure you have your waivers signed ahead of time. \n\n\n\nWhat to bring\n\nDress appropriately for the weather that day (it’s always a good idea to dress in layers this time of year\, with sun protection and rain protection). Everyone paddling must wear shoes and a PFD (we provide the PFD life jacket). Bring water and a snack if you are so inclined! Remember that items taken on the river can get wet or lost – come prepared with a dry bag for your essential items. \n\n\n\nSpecial requirements\n\nAll participants must be able to swim with a life jacket on.
URL:https://headwatersoutfitters.com/event/heritage-day-paddle-on-the-french-broad/
LOCATION:Champion Park\, 38 Main St\, Rosman\, NC\, 28772\, United States
ATTACH;FMTTYPE=image/png:https://eadn-wc01-7181330.nxedge.io/wp-content/uploads/2025/04/Heritage-Day-Maise.png
END:VEVENT
END:VCALENDAR