BEGIN:VCALENDAR
VERSION:2.0
PRODID:-//Headwaters Outfitters | Fly Fishing, Paddling, Tubing in Rosman, North Carolina - ECPv6.15.18//NONSGML v1.0//EN
CALSCALE:GREGORIAN
METHOD:PUBLISH
X-ORIGINAL-URL:https://headwatersoutfitters.com
X-WR-CALDESC:Events for Headwaters Outfitters | Fly Fishing, Paddling, Tubing in Rosman, North Carolina
REFRESH-INTERVAL;VALUE=DURATION:PT1H
X-Robots-Tag:noindex
X-PUBLISHED-TTL:PT1H
BEGIN:VTIMEZONE
TZID:America/New_York
BEGIN:DAYLIGHT
TZOFFSETFROM:-0500
TZOFFSETTO:-0400
TZNAME:EDT
DTSTART:20230312T070000
END:DAYLIGHT
BEGIN:STANDARD
TZOFFSETFROM:-0400
TZOFFSETTO:-0500
TZNAME:EST
DTSTART:20231105T060000
END:STANDARD
BEGIN:DAYLIGHT
TZOFFSETFROM:-0500
TZOFFSETTO:-0400
TZNAME:EDT
DTSTART:20240310T070000
END:DAYLIGHT
BEGIN:STANDARD
TZOFFSETFROM:-0400
TZOFFSETTO:-0500
TZNAME:EST
DTSTART:20241103T060000
END:STANDARD
BEGIN:DAYLIGHT
TZOFFSETFROM:-0500
TZOFFSETTO:-0400
TZNAME:EDT
DTSTART:20250309T070000
END:DAYLIGHT
BEGIN:STANDARD
TZOFFSETFROM:-0400
TZOFFSETTO:-0500
TZNAME:EST
DTSTART:20251102T060000
END:STANDARD
BEGIN:DAYLIGHT
TZOFFSETFROM:-0500
TZOFFSETTO:-0400
TZNAME:EDT
DTSTART:20260308T070000
END:DAYLIGHT
BEGIN:STANDARD
TZOFFSETFROM:-0400
TZOFFSETTO:-0500
TZNAME:EST
DTSTART:20261101T060000
END:STANDARD
END:VTIMEZONE
BEGIN:VEVENT
DTSTART;TZID=America/New_York:20251029T113000
DTEND;TZID=America/New_York:20251029T143000
DTSTAMP:20260424T182645
CREATED:20250908T160457Z
LAST-MODIFIED:20250908T160729Z
UID:1490524-1761737400-1761748200@headwatersoutfitters.com
SUMMARY:Paddle then Pints with Ecusta Brewing FALL EDITION
DESCRIPTION:Join us for Paddle Then Pints with Ecusta Brewing Company for a 2-hour paddle trip down the French Broad and end at Ecusta Brewing for a cold craft beer (drinks not included in cost). Headwaters Outfitters will meet you at Ecusta Brewing at 11:30am with your boats\, life-jackets\, and paddles. A quick 5-minute shuttle to Pisgah Forest Access will be the start of your paddle. End your paddle at Penrose Access. The shuttle (about 10 min) will take you back to Ecusta Brewing Company around 2:30pm. Drink Responsibly! Reservations Required! Drinks Not Included In Cost.
URL:https://headwatersoutfitters.com/event/paddle-then-pints-with-ecusta-brewing-fall-edition/2025-10-29/
LOCATION:Ecusta Brewing Company\, 451 Ecusta Rd.\, Brevard\, NC\, 28712\, United States
CATEGORIES:Paddling Events
ATTACH;FMTTYPE=image/jpeg:https://eadn-wc01-7181330.nxedge.io/wp-content/uploads/2025/09/Ecusta-Fall-Insta.jpg
END:VEVENT
BEGIN:VEVENT
DTSTART;TZID=America/New_York:20250903T093000
DTEND;TZID=America/New_York:20250903T093000
DTSTAMP:20260424T182645
CREATED:20250123T173107Z
LAST-MODIFIED:20250128T160737Z
UID:1489918-1756891800-1756891800@headwatersoutfitters.com
SUMMARY:Paddle then Pints with Ecusta Brewing
DESCRIPTION:Join us for Paddle Then Pints with Ecusta Brewing Company for a 2-hour paddle trip down the French Broad and end at Ecusta Brewing for a cold craft beer (drinks not included in cost). Headwaters Outfitters will meet you at Ecusta Brewing at 9:30am with your boats\, life-jackets\, and paddles. A quick 5-minute shuttle to Pisgah Forest Access will be the start of your paddle. End your paddle at Penrose Access. The shuttle (about 10 min) will take you back to Ecusta Brewing Company around 12:00pm. Drink Responsibly! Reservations Required! Drinks Not Included In Cost \n\n 
URL:https://headwatersoutfitters.com/event/paddle-then-pints-with-ecusta-brewing/2025-09-03/
LOCATION:Ecusta Brewing Company\, 451 Ecusta Rd.\, Brevard\, NC\, 28712\, United States
CATEGORIES:Paddling Events
ATTACH;FMTTYPE=image/png:https://eadn-wc01-7181330.nxedge.io/wp-content/uploads/2025/01/Ecusta.png
END:VEVENT
BEGIN:VEVENT
DTSTART;TZID=America/New_York:20241002T100000
DTEND;TZID=America/New_York:20241002T130000
DTSTAMP:20260424T182645
CREATED:20240904T175952Z
LAST-MODIFIED:20240904T175952Z
UID:1489585-1727863200-1727874000@headwatersoutfitters.com
SUMMARY:Paddle to Pints with Ecusta Brewing Fall Edition
DESCRIPTION:Join us for Paddle Then Pints with Ecusta Brewing Company for a 2-hour paddle trip down the French Broad and end at Ecusta Brewing for a cold craft beer (drinks not included in cost). Headwaters Outfitters will meet you at Ecusta Brewing at 9:30am with your boats\, life-jackets\, and paddles. A quick 5-minute shuttle to Pisgah Forest Access will be the start of your paddle. End your paddle at Penrose Access. The shuttle (about 10 min.) will take you back to Ecusta Brewing Company around 12:00pm. Drink Responsibly! Reservations Required! Drinks Not Included In Cost
URL:https://headwatersoutfitters.com/event/paddle-to-pints-with-ecusta-brewing-fall-edition/2024-10-02/
LOCATION:Ecusta Brewing Company\, 451 Ecusta Rd.\, Brevard\, NC\, 28712\, United States
CATEGORIES:Paddling Events
ATTACH;FMTTYPE=image/jpeg:https://eadn-wc01-7181330.nxedge.io/wp-content/uploads/2024/09/Ecusta-Fall-FH.jpg
END:VEVENT
BEGIN:VEVENT
DTSTART;TZID=America/New_York:20240828T093000
DTEND;TZID=America/New_York:20240828T123000
DTSTAMP:20260424T182645
CREATED:20240126T210847Z
LAST-MODIFIED:20240313T151148Z
UID:1489080-1724837400-1724848200@headwatersoutfitters.com
SUMMARY:Paddle then Pints With Ecusta Brewing Company
DESCRIPTION:Join us for Paddle Then Pints with Ecusta Brewing Company for a 2-hour paddle trip down the French Broad and end at Ecusta Brewing for a cold craft beer (drinks not included in cost). Headwaters Outfitters will meet you at Ecusta Brewing at 9:30am with your reserved boats\, life-jackets\, and paddles. A quick 5-minute shuttle to Pisgah Forest Access will be the start of your paddle. End your paddle at Penrose Access. The shuttle (about 10 min.) will take you back to Ecusta Brewing Company around 12:00 pm. Drink Responsibly! Reservations Required! Drinks Not Included In Cost.
URL:https://headwatersoutfitters.com/event/paddle-then-pints-with-ecusta-brewing-company/2024-08-28/
LOCATION:Ecusta Brewing Company\, 451 Ecusta Rd.\, Brevard\, NC\, 28712\, United States
CATEGORIES:Paddling Events
ATTACH;FMTTYPE=image/png:https://eadn-wc01-7181330.nxedge.io/wp-content/uploads/2024/01/Ecusta.png
END:VEVENT
END:VCALENDAR