BEGIN:VCALENDAR
VERSION:2.0
PRODID:-//Headwaters Outfitters | Fly Fishing, Paddling, Tubing in Rosman, North Carolina - ECPv6.15.18//NONSGML v1.0//EN
CALSCALE:GREGORIAN
METHOD:PUBLISH
X-WR-CALNAME:Headwaters Outfitters | Fly Fishing, Paddling, Tubing in Rosman, North Carolina
X-ORIGINAL-URL:https://headwatersoutfitters.com
X-WR-CALDESC:Events for Headwaters Outfitters | Fly Fishing, Paddling, Tubing in Rosman, North Carolina
REFRESH-INTERVAL;VALUE=DURATION:PT1H
X-Robots-Tag:noindex
X-PUBLISHED-TTL:PT1H
BEGIN:VTIMEZONE
TZID:America/New_York
BEGIN:DAYLIGHT
TZOFFSETFROM:-0500
TZOFFSETTO:-0400
TZNAME:EDT
DTSTART:20250309T070000
END:DAYLIGHT
BEGIN:STANDARD
TZOFFSETFROM:-0400
TZOFFSETTO:-0500
TZNAME:EST
DTSTART:20251102T060000
END:STANDARD
BEGIN:DAYLIGHT
TZOFFSETFROM:-0500
TZOFFSETTO:-0400
TZNAME:EDT
DTSTART:20260308T070000
END:DAYLIGHT
BEGIN:STANDARD
TZOFFSETFROM:-0400
TZOFFSETTO:-0500
TZNAME:EST
DTSTART:20261101T060000
END:STANDARD
BEGIN:DAYLIGHT
TZOFFSETFROM:-0500
TZOFFSETTO:-0400
TZNAME:EDT
DTSTART:20270314T070000
END:DAYLIGHT
BEGIN:STANDARD
TZOFFSETFROM:-0400
TZOFFSETTO:-0500
TZNAME:EST
DTSTART:20271107T060000
END:STANDARD
END:VTIMEZONE
BEGIN:VEVENT
DTSTART;TZID=America/New_York:20260528T180000
DTEND;TZID=America/New_York:20260528T200000
DTSTAMP:20260424T195632
CREATED:20260424T180908Z
LAST-MODIFIED:20260424T180908Z
UID:1491097-1779991200-1779998400@headwatersoutfitters.com
SUMMARY:Downtown Sips & Seminars
DESCRIPTION:Join us for Downtown Sips & Seminars\, a monthly after-hours series at Headwaters Outfitters Downtown. Each month features a new seminar or clinic designed to help you build skills\, learn something new\, and connect with our outdoor community. \nEnjoy small bites\, exclusive in-store sales\, and grab a beer next door while you relax\, learn\, and shop in a laid-back downtown setting. \nMay 28th – Seminar TBA \nJune 25th – Seminar TBA \nJuly 23rd – Seminar TBA \nAugust 27th – Seminar TBA \nSeptember 24th – Seminar TBA \nOctober 22nd – Seminar TBA
URL:https://headwatersoutfitters.com/event/downtown-sips-seminars/2026-05-28/
LOCATION:Headwaters Outfitters Downtown\, 67 E Main St\, Brevard\, NC\, 28712\, United States
CATEGORIES:Educational Presentations/Workshops
ATTACH;FMTTYPE=image/png:https://eadn-wc01-7181330.nxedge.io/wp-content/uploads/2026/04/IMG_0010.png
END:VEVENT
END:VCALENDAR