BEGIN:VCALENDAR
VERSION:2.0
PRODID:-//Headwaters Outfitters | Fly Fishing, Paddling, Tubing in Rosman, North Carolina - ECPv6.15.18//NONSGML v1.0//EN
CALSCALE:GREGORIAN
METHOD:PUBLISH
X-WR-CALNAME:Headwaters Outfitters | Fly Fishing, Paddling, Tubing in Rosman, North Carolina
X-ORIGINAL-URL:https://headwatersoutfitters.com
X-WR-CALDESC:Events for Headwaters Outfitters | Fly Fishing, Paddling, Tubing in Rosman, North Carolina
REFRESH-INTERVAL;VALUE=DURATION:PT1H
X-Robots-Tag:noindex
X-PUBLISHED-TTL:PT1H
BEGIN:VTIMEZONE
TZID:America/New_York
BEGIN:DAYLIGHT
TZOFFSETFROM:-0500
TZOFFSETTO:-0400
TZNAME:EDT
DTSTART:20240310T070000
END:DAYLIGHT
BEGIN:STANDARD
TZOFFSETFROM:-0400
TZOFFSETTO:-0500
TZNAME:EST
DTSTART:20241103T060000
END:STANDARD
BEGIN:DAYLIGHT
TZOFFSETFROM:-0500
TZOFFSETTO:-0400
TZNAME:EDT
DTSTART:20250309T070000
END:DAYLIGHT
BEGIN:STANDARD
TZOFFSETFROM:-0400
TZOFFSETTO:-0500
TZNAME:EST
DTSTART:20251102T060000
END:STANDARD
BEGIN:DAYLIGHT
TZOFFSETFROM:-0500
TZOFFSETTO:-0400
TZNAME:EDT
DTSTART:20260308T070000
END:DAYLIGHT
BEGIN:STANDARD
TZOFFSETFROM:-0400
TZOFFSETTO:-0500
TZNAME:EST
DTSTART:20261101T060000
END:STANDARD
END:VTIMEZONE
BEGIN:VEVENT
DTSTART;TZID=America/New_York:20250927T160000
DTEND;TZID=America/New_York:20250927T180000
DTSTAMP:20260424T194013
CREATED:20250901T164148Z
LAST-MODIFIED:20250901T164148Z
UID:1490492-1758988800-1758996000@headwatersoutfitters.com
SUMMARY:Fly Tying Class at The Greystone Inn
DESCRIPTION:Join fly fishing guide Jeremy Shurites for a fly tying class at The Greystone Inn on Saturday\, September 27th from 4 PM until 6 PM. All skill levels are welcome as this is a beginner-friendly class. Attendance is free\, but gratuity for Jeremy is appreciated!
URL:https://headwatersoutfitters.com/event/fly-tying-class-at-the-greystone-inn/
LOCATION:The Greystone Inn\, 220 Greystone Ln\, Lake Toxaway\, 28747\, United States
CATEGORIES:Educational Presentations/Workshops,Fly Fishing Events
ATTACH;FMTTYPE=image/jpeg:https://eadn-wc01-7181330.nxedge.io/wp-content/uploads/2025/09/Fly-Tying-for-Fall-Beginner-Class.jpeg
END:VEVENT
END:VCALENDAR